BEGIN:VCALENDAR
VERSION:2.0
PRODID:-//Buffalo Zoo - ECPv6.15.15//NONSGML v1.0//EN
CALSCALE:GREGORIAN
METHOD:PUBLISH
X-ORIGINAL-URL:https://buffalozoo.org
X-WR-CALDESC:Events for Buffalo Zoo
REFRESH-INTERVAL;VALUE=DURATION:PT1H
X-Robots-Tag:noindex
X-PUBLISHED-TTL:PT1H
BEGIN:VTIMEZONE
TZID:America/New_York
BEGIN:DAYLIGHT
TZOFFSETFROM:-0500
TZOFFSETTO:-0400
TZNAME:EDT
DTSTART:20180311T070000
END:DAYLIGHT
BEGIN:STANDARD
TZOFFSETFROM:-0400
TZOFFSETTO:-0500
TZNAME:EST
DTSTART:20181104T060000
END:STANDARD
BEGIN:DAYLIGHT
TZOFFSETFROM:-0500
TZOFFSETTO:-0400
TZNAME:EDT
DTSTART:20190310T070000
END:DAYLIGHT
BEGIN:STANDARD
TZOFFSETFROM:-0400
TZOFFSETTO:-0500
TZNAME:EST
DTSTART:20191103T060000
END:STANDARD
BEGIN:DAYLIGHT
TZOFFSETFROM:-0500
TZOFFSETTO:-0400
TZNAME:EDT
DTSTART:20200308T070000
END:DAYLIGHT
BEGIN:STANDARD
TZOFFSETFROM:-0400
TZOFFSETTO:-0500
TZNAME:EST
DTSTART:20201101T060000
END:STANDARD
END:VTIMEZONE
BEGIN:VEVENT
DTSTART;TZID=America/New_York:20190302T100000
DTEND;TZID=America/New_York:20190302T140000
DTSTAMP:20260425T215834
CREATED:20190227T214920Z
LAST-MODIFIED:20190311T142901Z
UID:10000064-1551520800-1551535200@buffalozoo.org
SUMMARY:All Things Arctic Animals Day
DESCRIPTION:From the adorable to the ferocious\, come celebrate All Things Arctic Animals Day at the Buffalo Zoo! Included FREE with your admission\, help celebrate and support your favorite friends at the Zoo. Have an extra penny jar around the house or coins between the cushions? Bring them to All Things Arctic Animals Day and join the Pennies for Polar Bears movement! All proceeds from the day benefit Polar Bears International\, the only organization dedicated solely to saving wild polar bears. \nYou’ll Experience:\nKeeper Chats\nSpecial Animal Enrichment\nMake-and-take Arts and Crafts\nEnter to win a raffle for a canvas paw print from Luna the polar bear!
URL:https://buffalozoo.org/event/all-things-arctic-animals-day/
LOCATION:NY
ATTACH;FMTTYPE=image/jpeg:https://buffalozoo.org/wp-content/uploads/2019/02/All-Things-Arctic.jpg
END:VEVENT
BEGIN:VEVENT
DTSTART;TZID=America/New_York:20190307T170000
DTEND;TZID=America/New_York:20190307T210000
DTSTAMP:20260425T215834
CREATED:20190227T215231Z
LAST-MODIFIED:20190311T142847Z
UID:10000137-1551978000-1551992400@buffalozoo.org
SUMMARY:Buffalo Zoo Happy Hour
DESCRIPTION:Grab a drink and support the Buffalo Zoo! Join the Pro Zoo Board at the Flying Bison Brewing Company for an evening of brews\, light bites\, and big fun. Tickets are only $20 and include two drink tickets\, appetizers\, and entry into a raffle for great prizes. Tickets will be available for purchase at the door.
URL:https://buffalozoo.org/event/buffalo-zoo-happy-hour/
LOCATION:Flying Bison Brewing Company\, 840 Seneca St\, Buffalo\, NY\, 14210\, United States
ATTACH;FMTTYPE=image/jpeg:https://buffalozoo.org/wp-content/uploads/2019/02/Pro-Zoo-Board-Happy-Hour-web.jpg
END:VEVENT
BEGIN:VEVENT
DTSTART;TZID=America/New_York:20190323T180000
DTEND;TZID=America/New_York:20190323T210000
DTSTAMP:20260425T215834
CREATED:20190301T180303Z
LAST-MODIFIED:20190326T163550Z
UID:10000138-1553364000-1553374800@buffalozoo.org
SUMMARY:Paint Night at the Buffalo Zoo
DESCRIPTION:It’s Paint Night at the Buffalo Zoo! Unleash your inner artist\, get in touch with your creative side and leave with a masterpiece that you can proudly display in your home or office. The talented artists and hosts of Pinot’s Palette will lead you step-by-step to create your very own piece of art that you’ll take away that evening. Learn to paint\, laugh and drink and connect with fellow supporters of the Buffalo Zoo! As a special bonus\, a Zookeeper will join and share fascinating facts on how the Zoo cares for the animals. \n\nYour Ticket Includes:\nZoo Admission and parking\nTwo-hour paint session led by an artist\nAll paint supplies\nLight bites from our friends at Imperial Pizza \nDon’t Miss!\nBeer and Wine Bar\nBasket Raffle\nPlush Prize Wall \nNo artistic talent required! All guests must be age 21+ \n\nPurchase Tickets here: \nhttps://www.eventbrite.com/e/paint-night-at-the-buffalo-zoo-tickets-57713751384
URL:https://buffalozoo.org/event/paint-night-at-the-buffalo-zoo/
LOCATION:NY
ATTACH;FMTTYPE=image/jpeg:https://buffalozoo.org/wp-content/uploads/2019/03/Paint-Nite-Website.jpg
END:VEVENT
END:VCALENDAR