BEGIN:VCALENDAR
VERSION:2.0
PRODID:-//Buffalo Zoo - ECPv6.15.15//NONSGML v1.0//EN
CALSCALE:GREGORIAN
METHOD:PUBLISH
X-ORIGINAL-URL:https://buffalozoo.org
X-WR-CALDESC:Events for Buffalo Zoo
REFRESH-INTERVAL;VALUE=DURATION:PT1H
X-Robots-Tag:noindex
X-PUBLISHED-TTL:PT1H
BEGIN:VTIMEZONE
TZID:America/New_York
BEGIN:DAYLIGHT
TZOFFSETFROM:-0500
TZOFFSETTO:-0400
TZNAME:EDT
DTSTART:20180311T070000
END:DAYLIGHT
BEGIN:STANDARD
TZOFFSETFROM:-0400
TZOFFSETTO:-0500
TZNAME:EST
DTSTART:20181104T060000
END:STANDARD
BEGIN:DAYLIGHT
TZOFFSETFROM:-0500
TZOFFSETTO:-0400
TZNAME:EDT
DTSTART:20190310T070000
END:DAYLIGHT
BEGIN:STANDARD
TZOFFSETFROM:-0400
TZOFFSETTO:-0500
TZNAME:EST
DTSTART:20191103T060000
END:STANDARD
BEGIN:DAYLIGHT
TZOFFSETFROM:-0500
TZOFFSETTO:-0400
TZNAME:EDT
DTSTART:20200308T070000
END:DAYLIGHT
BEGIN:STANDARD
TZOFFSETFROM:-0400
TZOFFSETTO:-0500
TZNAME:EST
DTSTART:20201101T060000
END:STANDARD
END:VTIMEZONE
BEGIN:VEVENT
DTSTART;TZID=America/New_York:20190914T080000
DTEND;TZID=America/New_York:20190914T170000
DTSTAMP:20260422T184503
CREATED:20190911T204710Z
LAST-MODIFIED:20190920T202415Z
UID:10000153-1568448000-1568480400@buffalozoo.org
SUMMARY:Country Harvest
DESCRIPTION:Join us on Saturday\, September 14 from 10:00 a.m. – 4:00 p.m. for a fun family-friendly event here at the Zoo! \nCelebrate Fall Festival weekend at our 3rd annual Country Harvest at the Buffalo Zoo! Enjoy festive fall activities\, bounce houses\, country music\, delicious food\, and much more! \nThis event is included with regular Zoo admission!
URL:https://buffalozoo.org/event/25642/
LOCATION:NY
ATTACH;FMTTYPE=image/jpeg:https://buffalozoo.org/wp-content/uploads/2019/09/2019-Country-Harvest.jpg
END:VEVENT
BEGIN:VEVENT
DTSTART;TZID=America/New_York:20190921T100000
DTEND;TZID=America/New_York:20190922T160000
DTSTAMP:20260422T184503
CREATED:20190920T202252Z
LAST-MODIFIED:20190926T170927Z
UID:10000156-1569060000-1569168000@buffalozoo.org
SUMMARY:World Rhino Day
DESCRIPTION:Celebrate all things rhino this Saturday & Sunday\, September 21 & 22.  The event runs from 10:00 a.m. until 4:00 p.m. and is free with Zoo admission. \nSchedule of events: \n10:00 a.m. – 4:00 p.m. – Rhino merchandise and information table in front of Tashi and Mohan’s exhibit. \n10:15 a.m. – Rhino Enrichment with George the rhino \n10:30 a.m. – Rhino Keeper talk in front of Tashi and Mohan’s habitat \n1:30 p.m. – Rhino Enrichment and Keeper talk in front of Tashi and Mohan’s exhibit.
URL:https://buffalozoo.org/event/world-rhino-day/
LOCATION:NY
ATTACH;FMTTYPE=image/jpeg:https://buffalozoo.org/wp-content/uploads/2019/09/2019-World-Rhino-Day.jpg
END:VEVENT
END:VCALENDAR