BEGIN:VCALENDAR
VERSION:2.0
PRODID:-//Buffalo Zoo - ECPv6.15.15//NONSGML v1.0//EN
CALSCALE:GREGORIAN
METHOD:PUBLISH
X-WR-CALNAME:Buffalo Zoo
X-ORIGINAL-URL:https://buffalozoo.org
X-WR-CALDESC:Events for Buffalo Zoo
REFRESH-INTERVAL;VALUE=DURATION:PT1H
X-Robots-Tag:noindex
X-PUBLISHED-TTL:PT1H
BEGIN:VTIMEZONE
TZID:America/New_York
BEGIN:DAYLIGHT
TZOFFSETFROM:-0500
TZOFFSETTO:-0400
TZNAME:EDT
DTSTART:20180311T070000
END:DAYLIGHT
BEGIN:STANDARD
TZOFFSETFROM:-0400
TZOFFSETTO:-0500
TZNAME:EST
DTSTART:20181104T060000
END:STANDARD
BEGIN:DAYLIGHT
TZOFFSETFROM:-0500
TZOFFSETTO:-0400
TZNAME:EDT
DTSTART:20190310T070000
END:DAYLIGHT
BEGIN:STANDARD
TZOFFSETFROM:-0400
TZOFFSETTO:-0500
TZNAME:EST
DTSTART:20191103T060000
END:STANDARD
BEGIN:DAYLIGHT
TZOFFSETFROM:-0500
TZOFFSETTO:-0400
TZNAME:EDT
DTSTART:20200308T070000
END:DAYLIGHT
BEGIN:STANDARD
TZOFFSETFROM:-0400
TZOFFSETTO:-0500
TZNAME:EST
DTSTART:20201101T060000
END:STANDARD
END:VTIMEZONE
BEGIN:VEVENT
DTSTART;TZID=America/New_York:20191011T170000
DTEND;TZID=America/New_York:20191012T200000
DTSTAMP:20260422T201539
CREATED:20190913T173144Z
LAST-MODIFIED:20191015T171055Z
UID:10000155-1570813200-1570910400@buffalozoo.org
SUMMARY:Celebrate Halloween at the Buffalo Zoo
DESCRIPTION:Celebrate Halloween at the Buffalo Zoo presented by Western New York Immediate Care with sponsor Hodgson Russ \nThis event takes place on Friday and Saturday\, October 11 and 12 from 5:00 pm to 8:00 pm each day. (Please note you must have a ticket for the correct date). \nGather your little ghosts and goblins and Celebrate Halloween! at the Buffalo Zoo. This safe and spooktacular evening at the Zoo features trick-or-treat candy stations\, bounce houses\, and inflatables\, free carousel rides (weather permitting)\, Zoo admission and keeper talks\, hayrides (additional fee) and more! \nPurchase your tickets today for this frightfully fun evening designed for the whole family. \nTickets: \n$15.00 per person (adult and child) for non-members\n$10.00 per person (adult and child) for members of the Buffalo Zoo (must show ID at entry). \nAll children 23 months and under are free.\nSPOOKY SAVINGS FAMILY PACK! $50 for non-members (4 tickets)/$30 for members of the Buffalo Zoo (4 tickets)\nTHIS EVENT IS RAIN OR SHINE. Tickets are non-transferable.\nTicket holders may enter at any time. Each person entering the event needs a ticket. \nTickets will be accepted only for the date purchased. Should a ticket holder be unable to attend\, your purchase will be considered a donation; there will be no refunds nor will tickets be honored on another night or year.\nMembership guest passes or other passes are NOT honored for this event. \nPurchase Tickets Here: Night One Friday or Night Two Saturday 
URL:https://buffalozoo.org/event/celebrate-halloween-at-the-buffalo-zoo-2/
LOCATION:NY
ATTACH;FMTTYPE=image/jpeg:https://buffalozoo.org/wp-content/uploads/2019/09/2019-Celebrate-Halloween-1.jpg
END:VEVENT
BEGIN:VEVENT
DTSTART;TZID=America/New_York:20191018T173000
DTEND;TZID=America/New_York:20191018T203000
DTSTAMP:20260422T201539
CREATED:20190913T172352Z
LAST-MODIFIED:20191021T124423Z
UID:10000154-1571419800-1571430600@buffalozoo.org
SUMMARY:Brews and BBQ at the Buffalo Zoo
DESCRIPTION:Join us for second annual fall Zoo Brew happy hour — this year’s theme is Brews and BBQ! Sip and stroll around the Zoo and enjoy seasonal beers\, music and the best BBQ Buffalo has to offer. Your ticket price includes one drink ticket. Don’t miss out on this popular fall fundraiser! \nEach person entering the event needs a ticket. Memberships and complimentary passes are not honored for this event. Tickets will be accepted only for the date purchased. Should a ticket holder be unable to attend\, your purchase will be considered a donation; there will be no refunds nor will tickets be honored on another night or year. The event is held rain or shine. \nPurchase Tickets here: http://bit.ly/2lSFFS4
URL:https://buffalozoo.org/event/brews-and-bbq-at-the-buffalo-zoo/
LOCATION:NY
ATTACH;FMTTYPE=image/jpeg:https://buffalozoo.org/wp-content/uploads/2019/09/2019-Brews-BBQ-Eventbrite.jpg
END:VEVENT
END:VCALENDAR