BEGIN:VCALENDAR
VERSION:2.0
PRODID:-//Buffalo Zoo - ECPv6.15.15//NONSGML v1.0//EN
CALSCALE:GREGORIAN
METHOD:PUBLISH
X-ORIGINAL-URL:https://buffalozoo.org
X-WR-CALDESC:Events for Buffalo Zoo
REFRESH-INTERVAL;VALUE=DURATION:PT1H
X-Robots-Tag:noindex
X-PUBLISHED-TTL:PT1H
BEGIN:VTIMEZONE
TZID:America/New_York
BEGIN:DAYLIGHT
TZOFFSETFROM:-0500
TZOFFSETTO:-0400
TZNAME:EDT
DTSTART:20200308T070000
END:DAYLIGHT
BEGIN:STANDARD
TZOFFSETFROM:-0400
TZOFFSETTO:-0500
TZNAME:EST
DTSTART:20201101T060000
END:STANDARD
BEGIN:DAYLIGHT
TZOFFSETFROM:-0500
TZOFFSETTO:-0400
TZNAME:EDT
DTSTART:20210314T070000
END:DAYLIGHT
BEGIN:STANDARD
TZOFFSETFROM:-0400
TZOFFSETTO:-0500
TZNAME:EST
DTSTART:20211107T060000
END:STANDARD
BEGIN:DAYLIGHT
TZOFFSETFROM:-0500
TZOFFSETTO:-0400
TZNAME:EDT
DTSTART:20220313T070000
END:DAYLIGHT
BEGIN:STANDARD
TZOFFSETFROM:-0400
TZOFFSETTO:-0500
TZNAME:EST
DTSTART:20221106T060000
END:STANDARD
END:VTIMEZONE
BEGIN:VEVENT
DTSTART;TZID=America/New_York:20211002T100000
DTEND;TZID=America/New_York:20211003T160000
DTSTAMP:20260425T230039
CREATED:20210830T191550Z
LAST-MODIFIED:20211025T130026Z
UID:10000120-1633168800-1633276800@buffalozoo.org
SUMMARY:Celebrate Halloween! at the Buffalo Zoo
DESCRIPTION:Celebrate Halloween! at the Buffalo Zoo is bigger and better and this year the fall fun lasts all month long! Family-friendly favorites like our Trick-or-Treat trail (open 11:00 am to 2:00 pm) return along with an all-new line-up of safe and not-so-scary activities\, like our corn maze and costume parade. Be sure to carve out some time in your day to pick-a-pumpkin at our patch and add your own dazzling decorations (for an additional fee) or watch our on-site pros create stunning and unique designs at our daily demonstrations.  And\, little ghouls and goblins won’t want to miss making memories with the characters at our photo spot and complimentary rides on the carousel and train!  \nOnce you’re done with all the Halloween fun\, stay and explore—Zoo admission is included in the ticket price. This event is designed for children ages 12 and under. \nPurchase Tickets Here\n  \nHalloween is for everyone! Boo Bash at the Buffalo Zoo is a trick-or-treat event designed for adults 21 and over (valid ID required). Learn more here.  \n  \nDates:   \nOctober 2\, 3\, 9\, 10\, 11\, 16\, 17\, 23 and 24 from 10am to 4pm.  \n\nTrick or Treat Trail is open 11am-2pm\n\nCharacter Appearances:  \nOctober 2 & 3: Sanderson Sisters  \nOctober 9\, 10 & 11: Princesses  \nOctober 16 & 17: Super Heroes  \nOctober 23 & 24: Wizards  \n  \nPrice:  \n\n$12 for Buffalo Zoo Members (Current\, valid membership required) \n$29.95 Adult Non-Member\, $27.95 Senior Non-Member\, $25.95 Child Non-Member\, Under 24 months FREE \n\n  \nTicket Description:   \nCelebrate Halloween! at the Buffalo Zoo is a festive event designed to celebrate the season. To ensure the best experience please note the following:  \nNON-MEMBERS: Please purchase Celebrate Halloween! Tickets only for those who wish to participate in the Trick-or-Treat trail and event activities. All others must purchase General Admission tickets to gain access to the Zoo. Children 24 months and under are admitted free but require reserved tickets. Simply select “Member/General Admission Under 24 months + Celebrate Halloween!” for each child who meets the age requirement.   \nMEMBERS: Please purchase Celebrate Halloween! Tickets only for those who wish to participate in the Trick-or-Treat trail and event activities. Your current\, valid Membership covers your unlimited admission to the Zoo. Guest passes can be redeemed to purchase Celebrate Halloween! Tickets at the member rate. Children 24 months and under are admitted free but require reserved tickets. Simply select “Member/General Admission Under 24 months + Celebrate Halloween!” for each child who meets the age requirement.  \n  \nTicket Terms and Conditions: \n\nPre-paid\, non-refundable\, non-transferable tickets are required to attend Celebrate Halloween! at the Buffalo Zoo. Should a ticket holder be unable to attend\, your purchase will be considered a donation. There will be no refunds\, nor will tickets be honored at another Celebrate Halloween! or year. \nBuffalo Zoo Members receive a special member discount. Please bring your valid Buffalo Zoo membership card and identification to the event. A $5.00 per ticket fee is charged for Members who cannot provide a valid Buffalo Zoo membership card and identification. \nMember level tickets are non-transferable. The Member’s name must be on all tickets purchased\, and the Member must be present with a valid Buffalo Zoo membership card and identification at entry. \n\n\nDuring your visit\, we require the use of face masks/coverings for all guests ages three and up in all indoor buildings and exhibits.  \nThis event is held rain or shine. Dates and times are subject to change or cancellation without notice. \nTrick or Treat Trail is open 11:00 am-2:00 pm. The Zoo is open 10:00 am to 4:00 pm \n\n 
URL:https://buffalozoo.org/event/celebrate-halloween-at-the-buffalo-zoo-6/
LOCATION:Buffalo Zoo\, 300 Parkside Ave\, Buffalo\, NY\, 14214\, United States
ATTACH;FMTTYPE=image/jpeg:https://buffalozoo.org/wp-content/uploads/2021/08/CelebrateHalloween_WebGraphic.jpg
GEO:42.9383689;-78.8509911
X-APPLE-STRUCTURED-LOCATION;VALUE=URI;X-ADDRESS=Buffalo Zoo 300 Parkside Ave Buffalo NY 14214 United States;X-APPLE-RADIUS=500;X-TITLE=300 Parkside Ave:geo:-78.8509911,42.9383689
END:VEVENT
BEGIN:VEVENT
DTSTART;TZID=America/New_York:20211008T180000
DTEND;TZID=America/New_York:20211010T210000
DTSTAMP:20260425T230039
CREATED:20210831T145823Z
LAST-MODIFIED:20211012T150046Z
UID:10000121-1633716000-1633899600@buffalozoo.org
SUMMARY:Boo Bash at the Buffalo Zoo
DESCRIPTION:It’s time to eat\, drink\, and be scary at Boo Bash at the Buffalo Zoo! The Zoo is open after-hours for a spooktacular party for adults-only (21+\, valid ID required). Make your way through the Trail of Treats featuring bewitching bites and spell-binding cocktails. Have a howling good time dancing the night away with our DJ\, be mesmerized by our magicians\, sword swallowers\, and other curious characters\, and keep your eyes peeled for our other spooky surprises lurking in the shadows! Give us “pumpkin” to talk about and don your best costume or keep it casual for this “fa-boo-lous” evening at the Buffalo Zoo. Space is limited so get your tickets today—it’s sure to be a gourd of a good time!  \nThis is strictly for guests age 21 and over. Valid ID is required and will be checked before entering the event. Please drink responsibly. Do not drink and drive.  \n  \nPurchase Tickets Here\n  \nDates:   \nOctober 8\, 9\, and 10 from 6:00 pm to 9:00 pm.  \n  \nPrice:  \n\n$75 per adult (ages 21+)\nDesignated Driver Ticket: $40 per adult (ages 21+\, event admission and food stations ONLY). \n\n  \n \n  \nTicket Description:   \nEach ticket for Boo Bash at the Buffalo Zoo includes seven food tastings and five full size cocktails\, access to select indoor exhibits\, and entertainment. The Buffalo Zoo will have tables throughout the campus where guests collect their adult treats! Guests may only visit each table one time so there are plenty of bites for all! Costumes are encouraged but not required. Guests should enter and exit through the Buffalo Zoo front gate entrance located on Parkside Avenue.  \nBoo Bash at the Buffalo Zoo is a festive event designed to celebrate the season in style. To ensure the best experience and to follow health and safety precautions\, please note the following:  \n\nBoo Bash is an adults-only event for guests age 21 and over. Guests under the age of 21\, including children accompanied by parents\, are not permitted at the event. Valid ID is required. \nPre-paid\, non-refundable\, non-transferable tickets are required to attend Boo Bash at the Buffalo Zoo. Should a ticket holder be unable to attend\, your purchase will be considered a donation. There will be no refunds\, nor will tickets be honored at another Boo Bash or year. \nDuring your visit\, we require the use of face masks/coverings for all guests in all indoor buildings and exhibits.  \nAll guests must follow Buffalo Zoo Guest Conduct guidelines. Violation of Guest Conduct guidelines may result in ejection from the event without refund.  \nPlease drink responsibly. Do not drink and drive. \nThis event is held rain or shine. Dates and times are subject to change or cancellation without notice. \n\n 
URL:https://buffalozoo.org/event/boo-bash-at-the-buffalo-zoo/
LOCATION:Buffalo Zoo\, 300 Parkside Ave\, Buffalo\, NY\, 14214\, United States
ATTACH;FMTTYPE=image/png:https://buffalozoo.org/wp-content/uploads/2021/08/BooBash_WebsiteGraphic-01.png
GEO:42.9383689;-78.8509911
X-APPLE-STRUCTURED-LOCATION;VALUE=URI;X-ADDRESS=Buffalo Zoo 300 Parkside Ave Buffalo NY 14214 United States;X-APPLE-RADIUS=500;X-TITLE=300 Parkside Ave:geo:-78.8509911,42.9383689
END:VEVENT
BEGIN:VEVENT
DTSTART;TZID=America/New_York:20211009T100000
DTEND;TZID=America/New_York:20211011T160000
DTSTAMP:20260425T230039
CREATED:20210901T142551Z
LAST-MODIFIED:20210909T185221Z
UID:10000204-1633773600-1633968000@buffalozoo.org
SUMMARY:Celebrate Halloween! at the Buffalo Zoo
DESCRIPTION:Celebrate Halloween! at the Buffalo Zoo is bigger and better and this year the fall fun lasts all month long! Family-friendly favorites like our Trick-or-Treat trail (open 11:00 am to 2:00 pm) return along with an all-new line-up of safe and not-so-scary activities\, like our corn maze and costume parade. Be sure to carve out some time in your day to pick-a-pumpkin at our patch and add your own dazzling decorations (for an additional fee) or watch our on-site pros create stunning and unique designs at our daily demonstrations.  And\, little ghouls and goblins won’t want to miss making memories with the characters at our photo spot and complimentary rides on the carousel and train!  \nOnce you’re done with all the Halloween fun\, stay and explore—Zoo admission is included in the ticket price. This event is designed for children ages 12 and under. \n  \nPurchase Tickets Here\n  \nHalloween is for everyone! Boo Bash at the Buffalo Zoo is a trick-or-treat event designed for adults 21 and over (valid ID required). Learn more here.  \n  \nDates:   \nOctober 2\, 3\, 9\, 10\, 11\, 16\, 17\, 23 and 24 from 10am to 4pm.  \n\nTrick or Treat Trail is open 11am-2pm\n\nCharacter Appearances:  \nOctober 2 & 3: Sanderson Sisters  \nOctober 9\, 10 & 11: Princesses  \nOctober 16 & 17: Super Heroes  \nOctober 23 & 24: Wizards  \n  \nPrice:  \n\n$12 for Buffalo Zoo Members (Current\, valid membership required) \n$29.95 Adult Non-Member\, $27.95 Senior Non-Member\, $25.95 Child Non-Member\, Under 24 months FREE \n\n  \nTicket Description:   \nCelebrate Halloween! at the Buffalo Zoo is a festive event designed to celebrate the season. To ensure the best experience please note the following:  \nNON-MEMBERS: Please purchase Celebrate Halloween! Tickets only for those who wish to participate in the Trick-or-Treat trail and event activities. All others must purchase General Admission tickets to gain access to the Zoo. Children 24 months and under are admitted free but require reserved tickets. Simply select “Member/General Admission Under 24 months + Celebrate Halloween!” for each child who meets the age requirement.   \nMEMBERS: Please purchase Celebrate Halloween! Tickets only for those who wish to participate in the Trick-or-Treat trail and event activities. Your current\, valid Membership covers your unlimited admission to the Zoo. Guest passes can be redeemed to purchase Celebrate Halloween! Tickets at the member rate. Children 24 months and under are admitted free but require reserved tickets. Simply select “Member/General Admission Under 24 months + Celebrate Halloween!” for each child who meets the age requirement.  \n  \nTicket Terms and Conditions: \n\nPre-paid\, non-refundable\, non-transferable tickets are required to attend Celebrate Halloween! at the Buffalo Zoo. Should a ticket holder be unable to attend\, your purchase will be considered a donation. There will be no refunds\, nor will tickets be honored at another Celebrate Halloween! or year. \nBuffalo Zoo Members receive a special member discount. Please bring your valid Buffalo Zoo membership card and identification to the event. A $5.00 per ticket fee is charged for Members who cannot provide a valid Buffalo Zoo membership card and identification. \nMember level tickets are non-transferable. The Member’s name must be on all tickets purchased\, and the Member must be present with a valid Buffalo Zoo membership card and identification at entry. \n\n\nDuring your visit\, we require the use of face masks/coverings for all guests ages three and up in all indoor buildings and exhibits.  \nThis event is held rain or shine. Dates and times are subject to change or cancellation without notice. \nTrick or Treat Trail is open 11:00 am-2:00 pm. The Zoo is open 10:00 am to 4:00 pm 
URL:https://buffalozoo.org/event/celebrate-halloween-at-the-buffalo-zoo-7/
LOCATION:Buffalo Zoo\, 300 Parkside Ave\, Buffalo\, NY\, 14214\, United States
ATTACH;FMTTYPE=image/jpeg:https://buffalozoo.org/wp-content/uploads/2021/08/CelebrateHalloween_WebGraphic.jpg
GEO:42.9383689;-78.8509911
X-APPLE-STRUCTURED-LOCATION;VALUE=URI;X-ADDRESS=Buffalo Zoo 300 Parkside Ave Buffalo NY 14214 United States;X-APPLE-RADIUS=500;X-TITLE=300 Parkside Ave:geo:-78.8509911,42.9383689
END:VEVENT
BEGIN:VEVENT
DTSTART;TZID=America/New_York:20211016T100000
DTEND;TZID=America/New_York:20211017T160000
DTSTAMP:20260425T230039
CREATED:20210901T145059Z
LAST-MODIFIED:20210909T185112Z
UID:10000205-1634378400-1634486400@buffalozoo.org
SUMMARY:Celebrate Halloween! at the Buffalo Zoo
DESCRIPTION:Celebrate Halloween! at the Buffalo Zoo is bigger and better and this year the fall fun lasts all month long! Family-friendly favorites like our Trick-or-Treat trail (open 11:00 am to 2:00 pm) return along with an all-new line-up of safe and not-so-scary activities\, like our corn maze and costume parade. Be sure to carve out some time in your day to pick-a-pumpkin at our patch and add your own dazzling decorations (for an additional fee) or watch our on-site pros create stunning and unique designs at our daily demonstrations.  And\, little ghouls and goblins won’t want to miss making memories with the characters at our photo spot and complimentary rides on the carousel and train!  \nOnce you’re done with all the Halloween fun\, stay and explore—Zoo admission is included in the ticket price. This event is designed for children ages 12 and under. \n  \nPurchase Tickets Here\n  \nHalloween is for everyone! Boo Bash at the Buffalo Zoo is a trick-or-treat event designed for adults 21 and over (valid ID required). Learn more here.  \n  \nDates:   \nOctober 2\, 3\, 9\, 10\, 11\, 16\, 17\, 23 and 24 from 10am to 4pm.  \n\nTrick or Treat Trail is open 11am-2pm\n\nCharacter Appearances:  \nOctober 2 & 3: Sanderson Sisters  \nOctober 9\, 10 & 11: Princesses  \nOctober 16 & 17: Super Heroes  \nOctober 23 & 24: Wizards  \n  \nPrice:  \n\n$12 for Buffalo Zoo Members (Current\, valid membership required) \n$29.95 Adult Non-Member\, $27.95 Senior Non-Member\, $25.95 Child Non-Member\, Under 24 months FREE \n\n  \nTicket Description:   \nCelebrate Halloween! at the Buffalo Zoo is a festive event designed to celebrate the season. To ensure the best experience please note the following:  \nNON-MEMBERS: Please purchase Celebrate Halloween! Tickets only for those who wish to participate in the Trick-or-Treat trail and event activities. All others must purchase General Admission tickets to gain access to the Zoo. Children 24 months and under are admitted free but require reserved tickets. Simply select “Member/General Admission Under 24 months + Celebrate Halloween!” for each child who meets the age requirement.   \nMEMBERS: Please purchase Celebrate Halloween! Tickets only for those who wish to participate in the Trick-or-Treat trail and event activities. Your current\, valid Membership covers your unlimited admission to the Zoo. Guest passes can be redeemed to purchase Celebrate Halloween! Tickets at the member rate. Children 24 months and under are admitted free but require reserved tickets. Simply select “Member/General Admission Under 24 months + Celebrate Halloween!” for each child who meets the age requirement.  \n  \nTicket Terms and Conditions: \n\nPre-paid\, non-refundable\, non-transferable tickets are required to attend Celebrate Halloween! at the Buffalo Zoo. Should a ticket holder be unable to attend\, your purchase will be considered a donation. There will be no refunds\, nor will tickets be honored at another Celebrate Halloween! or year. \nBuffalo Zoo Members receive a special member discount. Please bring your valid Buffalo Zoo membership card and identification to the event. A $5.00 per ticket fee is charged for Members who cannot provide a valid Buffalo Zoo membership card and identification. \nMember level tickets are non-transferable. The Member’s name must be on all tickets purchased\, and the Member must be present with a valid Buffalo Zoo membership card and identification at entry. \n\n\nDuring your visit\, we require the use of face masks/coverings for all guests ages three and up in all indoor buildings and exhibits.  \nThis event is held rain or shine. Dates and times are subject to change or cancellation without notice. \nTrick or Treat Trail is open 11:00 am-2:00 pm. The Zoo is open 10:00 am to 4:00 pm 
URL:https://buffalozoo.org/event/celebrate-halloween-at-the-buffalo-zoo-8/
LOCATION:Buffalo Zoo\, 300 Parkside Ave\, Buffalo\, NY\, 14214\, United States
ATTACH;FMTTYPE=image/jpeg:https://buffalozoo.org/wp-content/uploads/2021/08/CelebrateHalloween_WebGraphic.jpg
GEO:42.9383689;-78.8509911
X-APPLE-STRUCTURED-LOCATION;VALUE=URI;X-ADDRESS=Buffalo Zoo 300 Parkside Ave Buffalo NY 14214 United States;X-APPLE-RADIUS=500;X-TITLE=300 Parkside Ave:geo:-78.8509911,42.9383689
END:VEVENT
BEGIN:VEVENT
DTSTART;TZID=America/New_York:20211023T100000
DTEND;TZID=America/New_York:20211024T160000
DTSTAMP:20260425T230039
CREATED:20210901T145809Z
LAST-MODIFIED:20210909T184814Z
UID:10000206-1634983200-1635091200@buffalozoo.org
SUMMARY:Celebrate Halloween! at the Buffalo Zoo
DESCRIPTION:Celebrate Halloween! at the Buffalo Zoo is bigger and better and this year the fall fun lasts all month long! Family-friendly favorites like our Trick-or-Treat trail (open 11:00 am to 2:00 pm) return along with an all-new line-up of safe and not-so-scary activities\, like our corn maze and costume parade. Be sure to carve out some time in your day to pick-a-pumpkin at our patch and add your own dazzling decorations (for an additional fee) or watch our on-site pros create stunning and unique designs at our daily demonstrations.  And\, little ghouls and goblins won’t want to miss making memories with the characters at our photo spot and complimentary rides on the carousel and train!  \nOnce you’re done with all the Halloween fun\, stay and explore—Zoo admission is included in the ticket price. This event is designed for children ages 12 and under. \n  \nPurchase Tickets Here\n  \nHalloween is for everyone! Boo Bash at the Buffalo Zoo is a trick-or-treat event designed for adults 21 and over (valid ID required). Learn more here.  \n  \nDates:   \nOctober 2\, 3\, 9\, 10\, 11\, 16\, 17\, 23 and 24 from 10am to 4pm.  \n\nTrick or Treat Trail is open 11am-2pm\n\nCharacter Appearances:  \nOctober 2 & 3: Sanderson Sisters  \nOctober 9\, 10 & 11: Princesses  \nOctober 16 & 17: Super Heroes  \nOctober 23 & 24: Wizards  \n  \nPrice:  \n\n$12 for Buffalo Zoo Members (Current\, valid membership required) \n$29.95 Adult Non-Member\, $27.95 Senior Non-Member\, $25.95 Child Non-Member\, Under 24 months FREE \n\n  \nTicket Description:   \nCelebrate Halloween! at the Buffalo Zoo is a festive event designed to celebrate the season. To ensure the best experience please note the following:  \nNON-MEMBERS: Please purchase Celebrate Halloween! Tickets only for those who wish to participate in the Trick-or-Treat trail and event activities. All others must purchase General Admission tickets to gain access to the Zoo. Children 24 months and under are admitted free but require reserved tickets. Simply select “Member/General Admission Under 24 months + Celebrate Halloween!” for each child who meets the age requirement.   \nMEMBERS: Please purchase Celebrate Halloween! Tickets only for those who wish to participate in the Trick-or-Treat trail and event activities. Your current\, valid Membership covers your unlimited admission to the Zoo. Guest passes can be redeemed to purchase Celebrate Halloween! Tickets at the member rate. Children 24 months and under are admitted free but require reserved tickets. Simply select “Member/General Admission Under 24 months + Celebrate Halloween!” for each child who meets the age requirement.  \n  \nTicket Terms and Conditions: \n\nPre-paid\, non-refundable\, non-transferable tickets are required to attend Celebrate Halloween! at the Buffalo Zoo. Should a ticket holder be unable to attend\, your purchase will be considered a donation. There will be no refunds\, nor will tickets be honored at another Celebrate Halloween! or year. \nBuffalo Zoo Members receive a special member discount. Please bring your valid Buffalo Zoo membership card and identification to the event. A $5.00 per ticket fee is charged for Members who cannot provide a valid Buffalo Zoo membership card and identification. \nMember level tickets are non-transferable. The Member’s name must be on all tickets purchased\, and the Member must be present with a valid Buffalo Zoo membership card and identification at entry. \n\n\nDuring your visit\, we require the use of face masks/coverings for all guests ages three and up in all indoor buildings and exhibits.  \nThis event is held rain or shine. Dates and times are subject to change or cancellation without notice. \nTrick or Treat Trail is open 11:00 am-2:00 pm. The Zoo is open 10:00 am to 4:00 pm 
URL:https://buffalozoo.org/event/celebrate-halloween-at-the-buffalo-zoo-9/
LOCATION:Buffalo Zoo\, 300 Parkside Ave\, Buffalo\, NY\, 14214\, United States
ATTACH;FMTTYPE=image/jpeg:https://buffalozoo.org/wp-content/uploads/2021/08/CelebrateHalloween_WebGraphic.jpg
GEO:42.9383689;-78.8509911
X-APPLE-STRUCTURED-LOCATION;VALUE=URI;X-ADDRESS=Buffalo Zoo 300 Parkside Ave Buffalo NY 14214 United States;X-APPLE-RADIUS=500;X-TITLE=300 Parkside Ave:geo:-78.8509911,42.9383689
END:VEVENT
END:VCALENDAR