BEGIN:VCALENDAR
VERSION:2.0
PRODID:-//Buffalo Zoo - ECPv6.15.15//NONSGML v1.0//EN
CALSCALE:GREGORIAN
METHOD:PUBLISH
X-WR-CALNAME:Buffalo Zoo
X-ORIGINAL-URL:https://buffalozoo.org
X-WR-CALDESC:Events for Buffalo Zoo
REFRESH-INTERVAL;VALUE=DURATION:PT1H
X-Robots-Tag:noindex
X-PUBLISHED-TTL:PT1H
BEGIN:VTIMEZONE
TZID:America/New_York
BEGIN:DAYLIGHT
TZOFFSETFROM:-0500
TZOFFSETTO:-0400
TZNAME:EDT
DTSTART:20200308T070000
END:DAYLIGHT
BEGIN:STANDARD
TZOFFSETFROM:-0400
TZOFFSETTO:-0500
TZNAME:EST
DTSTART:20201101T060000
END:STANDARD
BEGIN:DAYLIGHT
TZOFFSETFROM:-0500
TZOFFSETTO:-0400
TZNAME:EDT
DTSTART:20210314T070000
END:DAYLIGHT
BEGIN:STANDARD
TZOFFSETFROM:-0400
TZOFFSETTO:-0500
TZNAME:EST
DTSTART:20211107T060000
END:STANDARD
BEGIN:DAYLIGHT
TZOFFSETFROM:-0500
TZOFFSETTO:-0400
TZNAME:EDT
DTSTART:20220313T070000
END:DAYLIGHT
BEGIN:STANDARD
TZOFFSETFROM:-0400
TZOFFSETTO:-0500
TZNAME:EST
DTSTART:20221106T060000
END:STANDARD
END:VTIMEZONE
BEGIN:VEVENT
DTSTART;TZID=America/New_York:20211126T173000
DTEND;TZID=America/New_York:20211126T210000
DTSTAMP:20260425T212621
CREATED:20211116T142827Z
LAST-MODIFIED:20211116T190258Z
UID:10000216-1637947800-1637960400@buffalozoo.org
SUMMARY:Zoo Lights First Look: Buffalo Zoo Members Only - SOLD OUT
DESCRIPTION:Buffalo Zoo Members are invited for a very special night of Zoo Lights 2021! While our magical team of holiday helpers make the final preparations for our official opening night on Saturday\, November 27\, Buffalo Zoo Members get an exclusive first look on Friday\, November 26 from 5:30 pm to 9:00 pm at a discounted price of $5.00 per person. \nZoo Lights at the Buffalo Zoo is a holiday experience you won’t want to miss. This year get ready for more lights\, more nights\, and more fun. Enjoy the Zoo after hours as you stroll through our illuminated winter wonderland. Take in dazzling light displays (charge up your phone for those Instagram-worthy photos!)\, listen to holiday music\, indulge in warm winter treats including a hot cocoa bar and s’mores\, and visit Santa. \nPLEASE NOTE: Zoo Lights First Look is for Buffalo Zoo Members only. A current\, valid Buffalo Zoo Membership ID must be presented on arrival at Zoo Lights. Buffalo Zoo Members may redeem valid\, non-expired guest passes at Zoo Lights at the Buffalo Zoo. \nA limited number of tickets are available so don’t delay\, buy your tickets today! \n  \nSOLD OUT\n  \nZoo Lights at the Buffalo Zoo is a festive event designed to celebrate the magic of the holiday season. To ensure the best experience\, please note the following: \n\nPlease note that Zoo Lights First Look is a soft open event. Some event features may be temporarily disabled while Zoo team members put the finishing touches on the event.\nPre-paid\, non-refundable\, non-transferable tickets are required to attend Zoo Lights at the Buffalo Zoo. Should a ticket holder be unable to attend\, your purchase will be considered a donation. There will be no refunds.\nChildren 24 months and under are admitted free but require reserved tickets. Simply select “Children – 24 Months and Under” for each child who meets the age requirement.\nBuffalo Zoo Members receive a special member discount. Please bring your valid Buffalo Zoo membership card and identification to the event. A $5.00 per ticket fee is charged for Members who cannot provide a valid Buffalo Zoo membership card and identification.\nMember level tickets are non-transferable. The Member’s name must be on all tickets purchased\, and the Member must be present with a valid Buffalo Zoo membership card and identification at entry.\nZoo Lights at the Buffalo Zoo does not feature the animal collection at the Zoo. \nThis event is held rain or shine. Dates and times are subject to change or cancellation without notice.
URL:https://buffalozoo.org/event/zoo-lights-first-look-members-only/
LOCATION:Buffalo Zoo\, 300 Parkside Ave\, Buffalo\, NY\, 14214\, United States
ATTACH;FMTTYPE=image/jpeg:https://buffalozoo.org/wp-content/uploads/2021/07/ZooLights_2021_FacebookEvent_1920x1080.jpg
GEO:42.9383689;-78.8509911
X-APPLE-STRUCTURED-LOCATION;VALUE=URI;X-ADDRESS=Buffalo Zoo 300 Parkside Ave Buffalo NY 14214 United States;X-APPLE-RADIUS=500;X-TITLE=300 Parkside Ave:geo:-78.8509911,42.9383689
END:VEVENT
BEGIN:VEVENT
DTSTART;TZID=America/New_York:20211127T173000
DTEND;TZID=America/New_York:20211128T210000
DTSTAMP:20260425T212621
CREATED:20210722T160652Z
LAST-MODIFIED:20220104T141756Z
UID:10000114-1638034200-1638133200@buffalozoo.org
SUMMARY:Zoo Lights at the Buffalo Zoo
DESCRIPTION:Zoo Lights at the Buffalo Zoo is back and better than ever! This year get ready for more lights\, more nights\, and more fun. Enjoy the Zoo after hours as you stroll through our illuminated winter wonderland. Take in dazzling light displays (charge up your phone for those Instagram-worthy photos!)\, ride on our Happy Holidays Express Train\, indulge in warm winter treats including a hot cocoa bar and s’mores\, listen to holiday music\, and visit Santa (through Dec. 23) or the Ice Princesses (Dec. 26 – Jan. 2)!  \nZoo Lights kicks off on Saturday\, November 27\, and runs select nights through January 2\, 2022\, from 5:30pm until 9:00pm. Walk-ups are accepted but reservations are recommended to get to the fun faster! \nPurchase Tickets Here \nTickets:  \n\nNon-Member Adult: $15.50 \nNon-Member Child: $10.50 \nMember Adult: $10.50 \nMember Child: $7.50 \nUnder 24 Months: FREE\n\nValid\, non-expired guest passes and ride tickets may be redeemed at Zoo Lights at the Buffalo Zoo for member pricing. \n  \nEnhance your Zoo Lights experience with one of our 2021 Ticket Packages!  \n  \nCheers New Year’s! Package – $40.00  \nTwo tickets\, two logoed champagne flutes and two servings of prosecco or sparkling juice.  \nIn with the new in 2022! Toast to the new year among the warm glow of Zoo Lights. While you stroll the dazzling light displays\, sip on your choice of a glass of prosecco or non-alcoholic sparkling juice. This package includes two general admission Zoo Lights tickets and two single servings of your choice of prosecco or non-alcoholic sparkling juice. Zoo Lights is open on New Year’s Eve from 5:30 pm to 9:00 pm (last admission is 8:30 pm).   \n  \nMerry Moments Photo Package – $60.00  \nFour Pack Tickets + 6”x8” Photo    \nCommemorate the joy of the holiday season and your visit to Zoo Lights with our Merry Moments ticket and photo package. Stop by each of our photo spots and our professional photographers will capture your magical night at Zoo Lights. You’ll get to take home one 6”x8” commemorative photo in a special Zoo Lights paper frame. This package includes four general admission Zoo Lights tickets\, so gather a group for merry photo memories and fun!  \nPlanning on getting merrily married this holiday season? Our photo spots\, professional photographers and photo packages are perfect for holiday engagements!  \n  \nFour by the Fireside Package- $65.95  \nFour Pack Tickets\, Four S’mores Kits\, Four Visits to the Comfort and Joy Hot Chocolate Bar  \nWarm up even the chilliest nights at Zoo Lights with our Four by the Fireside package! You’ll receive four general admission Zoo Lights tickets\, four kits to use for some fireside fun at our s’mores stop and four one-time visits to our Comfort and Joy Hot Chocolate Bar where you can indulge in rich cups of cocoa and mix-up the flavor at our toppings table.  \n  \nFestive Fun and Food Package -$99.95  \nFour Pack Tickets\, Four Train Ride Tickets\, Four S’mores Kits + Four Visits to the Comfort and Joy Hot Chocolate Bar\, Santa Photo or Ice Princesses photo depending on date.  \nYou’ll be shining bright at Zoo Lights with our Festive Fun and Food for Four Package! This package includes the whole Zoo Lights experience with general Zoo Lights admission tickets\, tickets for a spin on the Happy Holidays Express train\, and a festive photo with Santa or the Ice Princesses. When it’s time to warm your bellies\, cozy up to the fire and roast some s’mores\, and mix up the flavor with a visit to the Comfort and Joy Hot Chocolate Bar.  \n  \nVery Merry VIP Package – $199.95  \nVIP (Fire pits\, Seats\, and Service) located on Rhino/Hyena pathway  \nThe merriest way to experience Zoo Lights is our VIP package! This truly unforgettable Zoo Lights experience includes four general admission tickets\, a private outdoor lounge with vertical heaters for your exclusive use through the evening\, and your own dedicated fire pit with s’mores to roast. Indulge in some cheesy fun with hot fondue and delectable dippables and sip on seasonal beverages\, all served by your VIP attendant. The Zoo Lights VIP experience is for up to four guests; space is limited\, so reserve today!  \n  \nPurchase Tickets Here \n  \nTicket Description:  \nEach ticket for Zoo Lights includes admission to our self-guided walking tour of dazzling light displays within our winter wonderland village.   \nZoo Lights at the Buffalo Zoo is a festive event designed to celebrate the magic of the holiday season. To ensure the best experience\, please note the following:  \n\nPre-paid\, non-refundable\, non-transferable tickets are required to attend Zoo Lights at the Buffalo Zoo. Should a ticket holder be unable to attend\, your purchase will be considered a donation. There will be no refunds. \nChildren 24 months and under are admitted free but require reserved tickets. Simply select “Children – 24 Months and Under” for each child who meets the age requirement. \nBuffalo Zoo Members receive a special member discount. Please bring your valid Buffalo Zoo membership card and identification to the event. A $5.00 per ticket fee is charged for Members who cannot provide a valid Buffalo Zoo membership card and identification. \nMember level tickets are non-transferable. The Member’s name must be on all tickets purchased\, and the Member must be present with a valid Buffalo Zoo membership card and identification at entry. \nValid\, non-expired guest passes and ride tickets may be redeemed at Zoo Lights at the Buffalo Zoo for member pricing.\nZoo Lights at the Buffalo Zoo does not feature the animal collection at the Zoo. \nThis event is held rain or shine. Dates and times are subject to change or cancellation without notice. \n\n\n\nPrivate Events – Contact Zoo for Custom Proposal \nHolidays at the Buffalo Zoo are something worth celebrating! Whether you’re looking for a cheerful corporate gathering\, a thank you event for your clients or customers\, or a time for holiday cheer with the people you love\, the Buffalo Zoo is the most unique and unforgettable venue in town! For more information or to book a private event\, please call (716) 559-1072 or email groupsales@nullbuffalozoo.org. \nMix and Mingle Party Package – ($3\,000/ maximum 125 guests)  \nLight up the night with our Mix and Mingle Party Package! Your group will have a dedicated space in our Children’s Resource Center draped in dazzling decorations and general admission to Zoo Lights for each guest. Enhance your event with our delicious catering menus\, a visit with one of our ambassador animals\, and make memories that last forever with our photo packages (all for additional fee.)   \nNorth Star Holiday Package ($10\,000/maximum 500 guests)  \nZoo Lights is open just for you and your group\, when you purchase our North Star Holiday Package.  Enhance your event with our delicious catering menus\, a visit with one of our ambassador animals\, and make memories that last forever with our photo packages (all for additional fee.) The North Star Holiday package is available weekdays only from November 29\, 2021 – December 16\, 2021. 
URL:https://buffalozoo.org/event/zoo-lights-15/
LOCATION:Buffalo Zoo\, 300 Parkside Ave\, Buffalo\, NY\, 14214\, United States
ATTACH;FMTTYPE=image/jpeg:https://buffalozoo.org/wp-content/uploads/2021/07/ZooLights_2021_FacebookEvent_1920x1080.jpg
GEO:42.9383689;-78.8509911
X-APPLE-STRUCTURED-LOCATION;VALUE=URI;X-ADDRESS=Buffalo Zoo 300 Parkside Ave Buffalo NY 14214 United States;X-APPLE-RADIUS=500;X-TITLE=300 Parkside Ave:geo:-78.8509911,42.9383689
END:VEVENT
END:VCALENDAR