BEGIN:VCALENDAR
VERSION:2.0
PRODID:-//Buffalo Zoo - ECPv6.15.15//NONSGML v1.0//EN
CALSCALE:GREGORIAN
METHOD:PUBLISH
X-WR-CALNAME:Buffalo Zoo
X-ORIGINAL-URL:https://buffalozoo.org
X-WR-CALDESC:Events for Buffalo Zoo
REFRESH-INTERVAL;VALUE=DURATION:PT1H
X-Robots-Tag:noindex
X-PUBLISHED-TTL:PT1H
BEGIN:VTIMEZONE
TZID:America/New_York
BEGIN:DAYLIGHT
TZOFFSETFROM:-0500
TZOFFSETTO:-0400
TZNAME:EDT
DTSTART:20210314T070000
END:DAYLIGHT
BEGIN:STANDARD
TZOFFSETFROM:-0400
TZOFFSETTO:-0500
TZNAME:EST
DTSTART:20211107T060000
END:STANDARD
BEGIN:DAYLIGHT
TZOFFSETFROM:-0500
TZOFFSETTO:-0400
TZNAME:EDT
DTSTART:20220313T070000
END:DAYLIGHT
BEGIN:STANDARD
TZOFFSETFROM:-0400
TZOFFSETTO:-0500
TZNAME:EST
DTSTART:20221106T060000
END:STANDARD
BEGIN:DAYLIGHT
TZOFFSETFROM:-0500
TZOFFSETTO:-0400
TZNAME:EDT
DTSTART:20230312T070000
END:DAYLIGHT
BEGIN:STANDARD
TZOFFSETFROM:-0400
TZOFFSETTO:-0500
TZNAME:EST
DTSTART:20231105T060000
END:STANDARD
END:VTIMEZONE
BEGIN:VEVENT
DTSTART;VALUE=DATE:20220625
DTEND;VALUE=DATE:20220626
DTSTAMP:20260422T225310
CREATED:20220614T181515Z
LAST-MODIFIED:20220627T123946Z
UID:10000224-1656115200-1656201599@buffalozoo.org
SUMMARY:Palace Theatre Family Movie Day
DESCRIPTION:Come join Assemblymember Jon Rivera for a free screening of The Wizard of Oz at the Palace Theatre! This classic movie is fun for kids of all ages—and parents too! While the movie will begin at noon\, the Buffalo Zoo’s Zoomobile\, the Buffalo & Erie County Public Library’s Library2GO van\, and representatives from the Buffalo Museum of Science will be on-site starting at 9:00 AM. \nThe Zoomobile will have fun animal artifacts including pelts\, skulls\, horns\, and other animal adaptation tools. The Buffalo Museum of Science will have activities to teach the real-life magical science of tornadoes\, rainbows\, and bubbles. The Library2GO van will be on-site for guests to check out books or sign up for a library card. The Zoomobile and Library2GO van will be parked at the Village Community Market across the street from the Palace Theatre\, and the Science Museum will be at a table in front of the Theatre. \nTickets are limited (5 maximum per registrant) and guests must register in advance. Guests are encouraged to allow time to find street parking. \nBUY TICKETS NOW
URL:https://buffalozoo.org/event/palace-theatre-family-movie-day/
LOCATION:Hamburg Palace Theatre\, 31 Buffalo St\, Hamburg\, NY\, 14705\, United States
ATTACH;FMTTYPE=image/jpeg:https://buffalozoo.org/wp-content/uploads/2022/06/FamilyMovie-01-scaled.jpg
END:VEVENT
BEGIN:VEVENT
DTSTART;VALUE=DATE:20220629
DTEND;VALUE=DATE:20220630
DTSTAMP:20260422T225310
CREATED:20220614T175019Z
LAST-MODIFIED:20220630T125221Z
UID:10000223-1656460800-1656547199@buffalozoo.org
SUMMARY:The First Annual Charity Golf Tournament for the Buffalo Zoo Presented By the ProZoo Board of the Buffalo Zoo
DESCRIPTION:Join the ProZoo Board of the Buffalo Zoo for the first annual Charity Golf Tournament on Wednesday\, June 29\, 2022\, at the Terry Hills Golf Course and Banquet Facility! Spend a summer afternoon playing golf for a good cause with 100% of the proceeds supporting the Buffalo Zoo and other conservation organizations. \nThe event will kick off with lunch at 11:30 AM before a shotgun start at noon. Fun competitions and raffles including “closest to the pin” and “longest drive” contests will also be part of the festivities! The standard package includes lunch before the tournament and a gift bag. Upgrade to the deluxe package to include dinner after the tournament! \nSign up your team of 4 today! Prices listed are per person\, not per team. Be sure to add the correct quantity at check out to account for everyone on your team! We’ll see you there! \nBUY TICKETS NOW
URL:https://buffalozoo.org/event/the-first-annual-charity-golf-tournament-for-the-buffalo-zoo-presented-by-the-prozoo-board-of-the-buffalo-zoo/
LOCATION:Terry Hills Golf Course\, 5122 Clinton Street RD\, Batavia\, NY\, 14020\, United States
ATTACH;FMTTYPE=image/png:https://buffalozoo.org/wp-content/uploads/2022/06/287334752_149883467612576_3544821328613250343_n.png
ORGANIZER;CN="ProZoo Board of the Buffalo Zoo":MAILTO:prozooboard@gmail.com
END:VEVENT
BEGIN:VEVENT
DTSTART;TZID=America/New_York:20220630T183000
DTEND;TZID=America/New_York:20220703T223000
DTSTAMP:20260422T225310
CREATED:20220506T132053Z
LAST-MODIFIED:20220725T204701Z
UID:10000222-1656613800-1656887400@buffalozoo.org
SUMMARY:Zoomagination: The Festival of Lanterns and Lights presented by Five Star Bank
DESCRIPTION:Step into the world of Zoomagination: The Festival of Lanterns and Lights at the Buffalo Zoo presented by Five Star Bank. Explore the Zoo like never before with our brand-new immersive experience featuring large-scale animal and nature scape lanterns with interactive displays\, Asian-inspired food and drink (alcoholic and non-alcoholic) including a Beer Garden with specialty beverages\, attractions you know and love like our train and carousel\, shopping\, and more! Enjoy a Zoo wide walk under the stars for an experience that will take your breath away. Available for a limited time this summer\, this larger-than-life lantern festival can only be seen at the Buffalo Zoo. When the sun goes down (and the animals are in bed for the night) the Zoo lights up with Zoomagination: The Festival of Lanterns and Lights every Thursday – Sunday from 6:30 pm – 10:30 pm NOW EXTENDED THROUGH AUGUST 21! \nTicket holders can enter anytime between 6:30 pm and 9:45 pm.  \n  \nPurchase Tickets HERE\n*Members must be signed in to their Member account to view Member pricing and purchase Member tickets. Sign up for a Member account here.  \n  \nTickets:   \nNon-Member Adult (Ages 13+): $18.95  \nNon-Member Child (Ages 2-12): $14.95  \nMember Adult (Ages 13+): $15.95*  \nMember Child (Ages 2-12): $11.95* \nUnder 24 Months: FREE  \n  \nPurchase Tickets HERE\n*Members must be signed in to their Member account to view Member pricing and purchase Member tickets. Sign up for a Member account here.  \n  \nTickets Description:  \nEach ticket for Zoomagination: The Festival of Lanterns and Lights at the Buffalo Zoo presented by Five Star Bank includes admission to our self-guided walking tour of our larger-than-life lantern displays.  \nZoomagination is an immersive event designed to transport guests into a world of lanterns and lights. To ensure the best experience\, please note the following:  \n\nOur animals are not party animals and follow a daily routine. All indoor and outdoor exhibits are closed during the festival.  \nChildren 24 months and under are admitted free but require reserved tickets. Simply select “Children – 24 Months and Under” for each child who meets the age requirement. \nBuffalo Zoo Members receive a special member discount. Please bring your valid Buffalo Zoo membership card and identification to the event. A $5.00 per ticket fee is charged for Members who cannot provide a valid Buffalo Zoo membership card and identification. \nMember-level tickets are non-transferable. The Member’s name must be on all tickets purchased\, and the Member must be present with a valid Buffalo Zoo membership card and identification at entry.\nValid\, non-expired ride tickets may be redeemed at Zoomagination for member pricing. Guest passes are not valid at Zoomagination.  \nThis event is held rain or shine. Dates and times are subject to change or cancellation without notice.  \nLast admission is 9:45 pm. \nYour visit matters. Proceeds from Zoomagination support the care of our animals and our conservation efforts worldwide.  \nReservations are recommended but walk-ups are welcome.\nPre-paid\, non-refundable\, non-transferable tickets are required to attend Zoomagination. Should a ticket holder be unable to attend\, your purchase will be considered a donation. There will be no refunds. However\, if ticket holders wish to attend a different night of Zoomagination\, tickets are valid for any date of the event. Stop by an admission sales window prior to entry to have your ticket date adjusted. 
URL:https://buffalozoo.org/event/zoomagination-the-festival-of-lanterns-and-lights-presented-by-five-star-bank/
LOCATION:Buffalo Zoo\, 300 Parkside Ave\, Buffalo\, NY\, 14214\, United States
ATTACH;FMTTYPE=image/jpeg:https://buffalozoo.org/wp-content/uploads/2022/07/Zoomagination_1920x1080.jpg
GEO:42.9383689;-78.8509911
X-APPLE-STRUCTURED-LOCATION;VALUE=URI;X-ADDRESS=Buffalo Zoo 300 Parkside Ave Buffalo NY 14214 United States;X-APPLE-RADIUS=500;X-TITLE=300 Parkside Ave:geo:-78.8509911,42.9383689
END:VEVENT
END:VCALENDAR