BEGIN:VCALENDAR
VERSION:2.0
PRODID:-//Buffalo Zoo - ECPv6.15.15//NONSGML v1.0//EN
CALSCALE:GREGORIAN
METHOD:PUBLISH
X-WR-CALNAME:Buffalo Zoo
X-ORIGINAL-URL:https://buffalozoo.org
X-WR-CALDESC:Events for Buffalo Zoo
REFRESH-INTERVAL;VALUE=DURATION:PT1H
X-Robots-Tag:noindex
X-PUBLISHED-TTL:PT1H
BEGIN:VTIMEZONE
TZID:America/New_York
BEGIN:DAYLIGHT
TZOFFSETFROM:-0500
TZOFFSETTO:-0400
TZNAME:EDT
DTSTART:20210314T070000
END:DAYLIGHT
BEGIN:STANDARD
TZOFFSETFROM:-0400
TZOFFSETTO:-0500
TZNAME:EST
DTSTART:20211107T060000
END:STANDARD
BEGIN:DAYLIGHT
TZOFFSETFROM:-0500
TZOFFSETTO:-0400
TZNAME:EDT
DTSTART:20220313T070000
END:DAYLIGHT
BEGIN:STANDARD
TZOFFSETFROM:-0400
TZOFFSETTO:-0500
TZNAME:EST
DTSTART:20221106T060000
END:STANDARD
BEGIN:DAYLIGHT
TZOFFSETFROM:-0500
TZOFFSETTO:-0400
TZNAME:EDT
DTSTART:20230312T070000
END:DAYLIGHT
BEGIN:STANDARD
TZOFFSETFROM:-0400
TZOFFSETTO:-0500
TZNAME:EST
DTSTART:20231105T060000
END:STANDARD
END:VTIMEZONE
BEGIN:VEVENT
DTSTART;TZID=America/New_York:20221001T100000
DTEND;TZID=America/New_York:20221002T160000
DTSTAMP:20260423T040335
CREATED:20220824T124113Z
LAST-MODIFIED:20221003T123513Z
UID:10000234-1664618400-1664726400@buffalozoo.org
SUMMARY:Celebrate Halloween! at the Buffalo Zoo 2022
DESCRIPTION:Celebrate Halloween! at the Buffalo Zoo is back with a fang-tastic lineup of family-friendly activities! Collect your favorite Halloween goodies as you make your way through the Trick-or-Treat trail (open 11:00 am–2:00 pm)\, laugh uncontrollably at the Super Hilarious Magic Shows by Nick Mambretti\, and try to find your way out of the corn maze. Little ghouls and goblins won’t want to miss making memories with the characters at our photo spot and complimentary rides on the carousel and train! After working up an appetite\, indulge in your favorite fall treats available throughout the Zoo.  \nOnce you’re done with all the Halloween fun\, stay and explore! Wish your favorite animals a Happy Halloween and watch as they interact with an assortment of seasonal goodies like pumpkins! Zoo admission is included in the ticket price. This event is designed for children ages 12 and under.  \nHalloween is for everyone! Boo Bash at the Buffalo Zoo is a trick-or-treat event designed for adults 21 and over (valid ID required). Learn more here.  \nPURCHASE YOUR TICKETS TODAY! \n  \nDates:   \nOctober 1\, 2\, 8\, 9\, 15\, 16\, 22\, and 23 from 10:00 am–4:00 pm. \n\nTrick or Treat Trail is open from 11:00 am–2:00 pm. \nSeasonal animal enrichment will be given to select animals between 11:00 am–2:00 pm.\n\n  \nCharacter Appearances:  \nOctober 1 & 2: Princesses  \nOctober 8 & 9: Sanderson Sisters  \nOctober 15 & 16: Marvel Heroes  \nOctober 22 & 23: Villains Takeover    \nCharacters provided by A Dream Is A Wish Entertainment. \n  \nPrice:  \n\n$15 for Buffalo Zoo Members (Current\, valid membership required. Members must be signed into their account to view and purchase tickets at the member rate.) \n$29.95 Adult Non-Member\n$25.95 Senior Non-Member\n$25.95 Child Non-Member\nUnder 24 months FREE \n\nPlease purchase Celebrate Halloween! tickets only for those who wish to participate in the Trick-or-Treat trail and complimentary train and carousel rides. All other guests would need to purchase a general admission ticket to the Zoo. \n  \nPURCHASE TICKETS HERE\n  \nTicket Includes:  \n\nAdmission to the Buffalo Zoo \nA Trick-or-Treat Trail bag  \nGoodies from 10 Trick-or-Treat Trail stations \nComplimentary rides on the train and carousel \nPhoto opportunities with our characters \nSeasonal activities like the corn maze and access to other curious characters around the Zoo \n\n  \nTicket Description:   \nCelebrate Halloween! at the Buffalo Zoo is a festive event designed to celebrate spooky season. To ensure the best experience please note the following:  \nImportant Information About Ticket Purchase:  \nNON-MEMBERS: Please purchase Celebrate Halloween! Tickets only for those who wish to participate in the Trick-or-Treat trail and event activities. All others must purchase General Admission tickets to gain access to the Zoo. Children 24 months and under are admitted free but require reserved tickets. Simply select “Member/General Admission Under 24 months” in the Celebrate Halloween! special event ticketing module for each child who meets the age requirement.  \nMEMBERS: Please purchase Celebrate Halloween! Tickets only for those who wish to participate in the Trick-or-Treat trail and event activities. Your current\, valid Membership covers your unlimited admission to the Zoo. Children 24 months and under are admitted free but require reserved tickets. Simply select “Member/General Admission Under 24 months” in the Celebrate Halloween! special event Member ticketing module for each child who meets the age requirement.  \n  \nTicket Terms and Conditions  \n\nPre-paid\, non-refundable\, non-transferable tickets are required to attend Celebrate Halloween! at the Buffalo Zoo. Should a ticket holder be unable to attend\, your purchase will be considered a donation. There will be no refunds\, nor will tickets be honored at another Celebrate Halloween! or year. \nBuffalo Zoo Members receive a special member discount. Please bring your valid Buffalo Zoo membership card and identification to the event. A $5.00 per ticket fee is charged for Members who cannot provide a valid Buffalo Zoo membership card and identification. \nMember-level tickets are non-transferable. The Member’s name must be on all tickets purchased\, and the Member must be present with a valid Buffalo Zoo membership card and identification at entry. \nThis event is held rain or shine. Dates and times are subject to change or cancellation without notice. \nTrick-or-Treat Trail is open 11:00 am–2:00 pm. The Zoo is open 10:00 am–4:00 pm.
URL:https://buffalozoo.org/event/celebrate-halloween-at-the-buffalo-zoo-2022/
LOCATION:Buffalo Zoo\, 300 Parkside Ave\, Buffalo\, NY\, 14214\, United States
ATTACH;FMTTYPE=image/jpeg:https://buffalozoo.org/wp-content/uploads/2022/08/CelebrateHalloween_WebGraphic-1.jpg
GEO:42.9383689;-78.8509911
X-APPLE-STRUCTURED-LOCATION;VALUE=URI;X-ADDRESS=Buffalo Zoo 300 Parkside Ave Buffalo NY 14214 United States;X-APPLE-RADIUS=500;X-TITLE=300 Parkside Ave:geo:-78.8509911,42.9383689
END:VEVENT
BEGIN:VEVENT
DTSTART;TZID=America/New_York:20221008T100000
DTEND;TZID=America/New_York:20221009T160000
DTSTAMP:20260423T040335
CREATED:20220824T124229Z
LAST-MODIFIED:20221011T123839Z
UID:10000235-1665223200-1665331200@buffalozoo.org
SUMMARY:Celebrate Halloween! at the Buffalo Zoo 2022
DESCRIPTION:Celebrate Halloween! at the Buffalo Zoo is back with a fang-tastic lineup of family-friendly activities! Collect your favorite Halloween goodies as you make your way through the Trick-or-Treat trail (open 11:00 am–2:00 pm)\, laugh uncontrollably at the Super Hilarious Magic Shows by Nick Mambretti\, and try to find your way out of the corn maze. Little ghouls and goblins won’t want to miss making memories with the characters at our photo spot and complimentary rides on the carousel and train! After working up an appetite\, indulge in your favorite fall treats available throughout the Zoo.  \nOnce you’re done with all the Halloween fun\, stay and explore! Wish your favorite animals a Happy Halloween and watch as they interact with an assortment of seasonal goodies like pumpkins! Zoo admission is included in the ticket price. This event is designed for children ages 12 and under.    \nHalloween is for everyone! Boo Bash at the Buffalo Zoo is a trick-or-treat event designed for adults 21 and over (valid ID required). Learn more here.  \nPURCHASE YOUR TICKETS TODAY! \n  \nDates:   \nOctober 1\, 2\, 8\, 9\, 15\, 16\, 22\, and 23 from 10:00 am–4:00 pm. \n\nTrick or Treat Trail is open from 11:00 am–2:00 pm. \nSeasonal animal enrichment will be given to select animals between 11:00 am–2:00 pm.\n\n  \nCharacter Appearances:  \nOctober 1 & 2: Princesses  \nOctober 8 & 9: Sanderson Sisters  \nOctober 15 & 16: Marvel Heroes  \nOctober 22 & 23: Villains Takeover    \nCharacters provided by A Dream Is A Wish Entertainment. \n  \nPrice:  \n\n$15 for Buffalo Zoo Members (Current\, valid membership required. Members must be signed into their account to view and purchase tickets at the member rate.) \n$29.95 Adult Non-Member\n$25.95 Senior Non-Member\n$25.95 Child Non-Member\nUnder 24 months FREE \n\nPlease purchase Celebrate Halloween! tickets only for those who wish to participate in the Trick-or-Treat trail and complimentary train and carousel rides. All other guests would need to purchase a general admission ticket to the Zoo. \n  \nPURCHASE TICKETS HERE\n  \nTicket Includes:  \n\nAdmission to the Buffalo Zoo \nA Trick-or-Treat Trail bag  \nGoodies from 10 Trick-or-Treat Trail stations \nComplimentary rides on the train and carousel \nPhoto opportunities with our characters \nSeasonal activities like the corn maze and access to other curious characters around the Zoo \n\n  \nTicket Description:   \nCelebrate Halloween! at the Buffalo Zoo is a festive event designed to celebrate spooky season. To ensure the best experience please note the following:  \nImportant Information About Ticket Purchase:  \nNON-MEMBERS: Please purchase Celebrate Halloween! Tickets only for those who wish to participate in the Trick-or-Treat trail and event activities. All others must purchase General Admission tickets to gain access to the Zoo. Children 24 months and under are admitted free but require reserved tickets. Simply select “Member/General Admission Under 24 months” in the Celebrate Halloween! special event ticketing module for each child who meets the age requirement.  \nMEMBERS: Please purchase Celebrate Halloween! Tickets only for those who wish to participate in the Trick-or-Treat trail and event activities. Your current\, valid Membership covers your unlimited admission to the Zoo. Children 24 months and under are admitted free but require reserved tickets. Simply select “Member/General Admission Under 24 months” in the Celebrate Halloween! special event Member ticketing module for each child who meets the age requirement.  \n  \nTicket Terms and Conditions  \n\nPre-paid\, non-refundable\, non-transferable tickets are required to attend Celebrate Halloween! at the Buffalo Zoo. Should a ticket holder be unable to attend\, your purchase will be considered a donation. There will be no refunds\, nor will tickets be honored at another Celebrate Halloween! or year. \nBuffalo Zoo Members receive a special member discount. Please bring your valid Buffalo Zoo membership card and identification to the event. A $5.00 per ticket fee is charged for Members who cannot provide a valid Buffalo Zoo membership card and identification. \nMember-level tickets are non-transferable. The Member’s name must be on all tickets purchased\, and the Member must be present with a valid Buffalo Zoo membership card and identification at entry. \nThis event is held rain or shine. Dates and times are subject to change or cancellation without notice. \nTrick-or-Treat Trail is open 11:00 am–2:00 pm. The Zoo is open 10:00 am–4:00 pm.
URL:https://buffalozoo.org/event/celebrate-halloween-at-the-buffalo-zoo-2022-2/
LOCATION:Buffalo Zoo\, 300 Parkside Ave\, Buffalo\, NY\, 14214\, United States
ATTACH;FMTTYPE=image/jpeg:https://buffalozoo.org/wp-content/uploads/2022/08/CelebrateHalloween_WebGraphic-1.jpg
GEO:42.9383689;-78.8509911
X-APPLE-STRUCTURED-LOCATION;VALUE=URI;X-ADDRESS=Buffalo Zoo 300 Parkside Ave Buffalo NY 14214 United States;X-APPLE-RADIUS=500;X-TITLE=300 Parkside Ave:geo:-78.8509911,42.9383689
END:VEVENT
BEGIN:VEVENT
DTSTART;TZID=America/New_York:20221013T180000
DTEND;TZID=America/New_York:20221015T220000
DTSTAMP:20260423T040335
CREATED:20220830T183017Z
LAST-MODIFIED:20221017T123542Z
UID:10000238-1665684000-1665871200@buffalozoo.org
SUMMARY:Boo Bash! at the Buffalo Zoo 2022
DESCRIPTION:Everyone’s favorite event of the season is back—Boo Bash at the Buffalo Zoo returns for another spook-tacular night of fun! Get into the Halloween spirit at our fang-tastic after-hours party for adults-only (21+\, valid ID required). Make your way through the Trail of Treats featuring bewitching bites and spell-binding cocktails. Have a howling good time dancing the night away with our DJ\, be mesmerized by our group of curious characters\, get your photo with the Sanderson Sisters (they might even dazzle us with a performance of “I Put a Spell on You”)\, and keep your eyes peeled for other spooky surprises lurking in the shadows! Give us “pumpkin” to talk about and don your best costume or keep it casual for this “fa-boo-lous” evening at the Buffalo Zoo. Make sure to get here early so you can wish your favorite animals “Happy Halloween!” before they head to bed at dusk. Space is limited so get your tickets today—it’s sure to be a gourd of a good time!  \nThis is strictly for guests age 21 and over. Valid ID is required and will be checked before entering the event. Please drink responsibly. Do not drink and drive.  \n  \nUSE CODE BOOBASH15 AT CHECKOUT FOR 15% OFF.*\n*Valid through 10/15/2022. Discount cannot be applied to previously purchased tickets. \n  \nDates:   \nOctober 13\, 14\, and 15 from 6:00 pm–10:00 pm. \nGuests who purchase a ticket to Boo Bash for Thursday\, October 13\, will automatically be entered to win two 4-packs of Rusty Nickel Zoo Brew and two 4-packs of Rusty Nickel Sprocktoberfest. The winner will be announced at 9:00 pm at Boo Bash on October 13 and posted at the exit. \n  \nPrice:  \n\nNon-Member Adult 21+: $80 \nMember Adult 21+: $65 \nDesignated Driver Adult 21+: $40 (event admission and food stations ONLY). \n\n  \nPURCHASE TICKETS HERE\n  \n  \n  \nTicket Description:   \nEach ticket for Boo Bash at the Buffalo Zoo includes five food and five alcoholic beverage stations\, access to animal exhibits until dusk\, and spook-tacular entertainment. The Buffalo Zoo will have tables throughout the campus where guests collect their adult treats. Guests may only visit each table one time so there are plenty of bites for all! Costumes encouraged but not required. Guests should enter and exit through the Buffalo Zoo front gate entrance located on Parkside Avenue. Parking in the Buffalo Zoo parking lot is included with your ticket.  \nBoo Bash at the Buffalo Zoo is a festive event designed to celebrate the Halloween season in style. To ensure the best experience\, please note the following:  \n\nBoo Bash is an adults-only event for guests age 21 and over. Guests under the age of 21\, including children accompanied by parents\, are not permitted at the event. Valid ID is required. \nPre-paid\, non-refundable\, non-transferable tickets are required to attend Boo Bash at the Buffalo Zoo. Should a ticket holder be unable to attend\, your purchase will be considered a donation. There will be no refunds\, nor will tickets be honored at another Boo Bash or year. \nAll guests must follow Buffalo Zoo Guest Conduct guidelines. Violation of Guest Conduct guidelines may result in ejection from the event without refund.  \nPlease drink responsibly. Do not drink and drive. \nTicketholders cannot enter beyond 9:00 pm. \nThis event is held rain or shine. Dates and times are subject to change or cancellation without notice. 
URL:https://buffalozoo.org/event/boo-bash-at-the-buffalo-zoo-2022/
LOCATION:Buffalo Zoo\, 300 Parkside Ave\, Buffalo\, NY\, 14214\, United States
ATTACH;FMTTYPE=image/png:https://buffalozoo.org/wp-content/uploads/2022/08/BooBash_WebsiteGraphic.png
GEO:42.9383689;-78.8509911
X-APPLE-STRUCTURED-LOCATION;VALUE=URI;X-ADDRESS=Buffalo Zoo 300 Parkside Ave Buffalo NY 14214 United States;X-APPLE-RADIUS=500;X-TITLE=300 Parkside Ave:geo:-78.8509911,42.9383689
END:VEVENT
BEGIN:VEVENT
DTSTART;TZID=America/New_York:20221015T100000
DTEND;TZID=America/New_York:20221016T160000
DTSTAMP:20260423T040335
CREATED:20220824T124301Z
LAST-MODIFIED:20221017T123606Z
UID:10000236-1665828000-1665936000@buffalozoo.org
SUMMARY:Celebrate Halloween! at the Buffalo Zoo 2022
DESCRIPTION:Celebrate Halloween! at the Buffalo Zoo is back with a fang-tastic lineup of family-friendly activities! Collect your favorite Halloween goodies as you make your way through the Trick-or-Treat trail (open 11:00 am–2:00 pm)\, laugh uncontrollably at the Super Hilarious Magic Shows by Nick Mambretti\, and try to find your way out of the corn maze. Little ghouls and goblins won’t want to miss making memories with the characters at our photo spot and complimentary rides on the carousel and train! After working up an appetite\, indulge in your favorite fall treats available throughout the Zoo.  \nOnce you’re done with all the Halloween fun\, stay and explore! Wish your favorite animals a Happy Halloween and watch as they interact with an assortment of seasonal goodies like pumpkins! Zoo admission is included in the ticket price. This event is designed for children ages 12 and under.    \nPURCHASE YOUR TICKETS TODAY! \nHalloween is for everyone! Boo Bash at the Buffalo Zoo is a trick-or-treat event designed for adults 21 and over (valid ID required). Learn more here.  \nDates:   \nOctober 1\, 2\, 8\, 9\, 15\, 16\, 22\, and 23 from 10:00 am–4:00 pm. \n\nTrick or Treat Trail is open from 11:00 am–2:00 pm. \nSeasonal animal enrichment will be given to select animals between 11:00 am–2:00 pm.\n\n  \nCharacter Appearances:  \nOctober 1 & 2: Princesses  \nOctober 8 & 9: Sanderson Sisters  \nOctober 15 & 16: Marvel Heroes  \nOctober 22 & 23: Villains Takeover    \nCharacters provided by A Dream Is A Wish Entertainment. \n  \nPrice:  \n\n$15 for Buffalo Zoo Members (Current\, valid membership required. Members must be signed into their account to view and purchase tickets at the member rate.) \n$29.95 Adult Non-Member\n$25.95 Senior Non-Member\n$25.95 Child Non-Member\nUnder 24 months FREE \n\nPlease purchase Celebrate Halloween! tickets only for those who wish to participate in the Trick-or-Treat trail and complimentary train and carousel rides. All other guests would need to purchase a general admission ticket to the Zoo. \n  \nPURCHASE TICKETS HERE\n  \nTicket Includes:  \n\nAdmission to the Buffalo Zoo \nA Trick-or-Treat Trail bag  \nGoodies from 10 Trick-or-Treat Trail stations \nComplimentary rides on the train and carousel \nPhoto opportunities with our characters \nSeasonal activities like the corn maze and access to other curious characters around the Zoo \n\n  \nTicket Description:   \nCelebrate Halloween! at the Buffalo Zoo is a festive event designed to celebrate spooky season. To ensure the best experience please note the following:  \nImportant Information About Ticket Purchase:  \nNON-MEMBERS: Please purchase Celebrate Halloween! Tickets only for those who wish to participate in the Trick-or-Treat trail and event activities. All others must purchase General Admission tickets to gain access to the Zoo. Children 24 months and under are admitted free but require reserved tickets. Simply select “Member/General Admission Under 24 months” in the Celebrate Halloween! special event ticketing module for each child who meets the age requirement.  \nMEMBERS: Please purchase Celebrate Halloween! Tickets only for those who wish to participate in the Trick-or-Treat trail and event activities. Your current\, valid Membership covers your unlimited admission to the Zoo. Children 24 months and under are admitted free but require reserved tickets. Simply select “Member/General Admission Under 24 months” in the Celebrate Halloween! special event Member ticketing module for each child who meets the age requirement.  \n  \nTicket Terms and Conditions  \n\nPre-paid\, non-refundable\, non-transferable tickets are required to attend Celebrate Halloween! at the Buffalo Zoo. Should a ticket holder be unable to attend\, your purchase will be considered a donation. There will be no refunds\, nor will tickets be honored at another Celebrate Halloween! or year. \nBuffalo Zoo Members receive a special member discount. Please bring your valid Buffalo Zoo membership card and identification to the event. A $5.00 per ticket fee is charged for Members who cannot provide a valid Buffalo Zoo membership card and identification. \nMember-level tickets are non-transferable. The Member’s name must be on all tickets purchased\, and the Member must be present with a valid Buffalo Zoo membership card and identification at entry. \nThis event is held rain or shine. Dates and times are subject to change or cancellation without notice. \nTrick-or-Treat Trail is open 11:00 am–2:00 pm. The Zoo is open 10:00 am–4:00 pm.
URL:https://buffalozoo.org/event/celebrate-halloween-at-the-buffalo-zoo-2022-3/
LOCATION:Buffalo Zoo\, 300 Parkside Ave\, Buffalo\, NY\, 14214\, United States
ATTACH;FMTTYPE=image/jpeg:https://buffalozoo.org/wp-content/uploads/2022/08/CelebrateHalloween_WebGraphic-1.jpg
GEO:42.9383689;-78.8509911
X-APPLE-STRUCTURED-LOCATION;VALUE=URI;X-ADDRESS=Buffalo Zoo 300 Parkside Ave Buffalo NY 14214 United States;X-APPLE-RADIUS=500;X-TITLE=300 Parkside Ave:geo:-78.8509911,42.9383689
END:VEVENT
BEGIN:VEVENT
DTSTART;TZID=America/New_York:20221022T100000
DTEND;TZID=America/New_York:20221023T160000
DTSTAMP:20260423T040335
CREATED:20220824T124325Z
LAST-MODIFIED:20221024T125002Z
UID:10000237-1666432800-1666540800@buffalozoo.org
SUMMARY:Celebrate Halloween! at the Buffalo Zoo 2022
DESCRIPTION:Celebrate Halloween! at the Buffalo Zoo is back with a fang-tastic lineup of family-friendly activities! Collect your favorite Halloween goodies as you make your way through the Trick-or-Treat trail (open 11:00 am–2:00 pm)\, laugh uncontrollably at the Super Hilarious Magic Shows by Nick Mambretti\, and try to find your way out of the corn maze. Little ghouls and goblins won’t want to miss making memories with the characters at our photo spot and complimentary rides on the carousel and train! After working up an appetite\, indulge in your favorite fall treats available throughout the Zoo.  \nOnce you’re done with all the Halloween fun\, stay and explore! Wish your favorite animals a Happy Halloween and watch as they interact with an assortment of seasonal goodies like pumpkins! Zoo admission is included in the ticket price. This event is designed for children ages 12 and under.   \nPURCHASE YOUR TICKETS TODAY! \n  \nDates:   \nOctober 1\, 2\, 8\, 9\, 15\, 16\, 22\, and 23 from 10:00 am–4:00 pm. \n\nTrick or Treat Trail is open from 11:00 am–2:00 pm. \nSeasonal animal enrichment will be given to select animals between 11:00 am–2:00 pm.\n\n  \nCharacter Appearances:  \nOctober 1 & 2: Princesses  \nOctober 8 & 9: Sanderson Sisters  \nOctober 15 & 16: Marvel Heroes  \nOctober 22 & 23: Villains Takeover    \nCharacters provided by A Dream Is A Wish Entertainment. \n  \nPrice:  \n\n$15 for Buffalo Zoo Members (Current\, valid membership required. Members must be signed into their account to view and purchase tickets at the member rate.) \n$29.95 Adult Non-Member\n$25.95 Senior Non-Member\n$25.95 Child Non-Member\nUnder 24 months FREE \n\nPlease purchase Celebrate Halloween! tickets only for those who wish to participate in the Trick-or-Treat trail and complimentary train and carousel rides. All other guests would need to purchase a general admission ticket to the Zoo. \n  \nPURCHASE TICKETS HERE\n  \nTicket Includes:  \n\nAdmission to the Buffalo Zoo \nA Trick-or-Treat Trail bag  \nGoodies from 10 Trick-or-Treat Trail stations \nComplimentary rides on the train and carousel \nPhoto opportunities with our characters \nSeasonal activities like the corn maze and access to other curious characters around the Zoo \n\n  \nTicket Description:   \nCelebrate Halloween! at the Buffalo Zoo is a festive event designed to celebrate spooky season. To ensure the best experience please note the following:  \nImportant Information About Ticket Purchase:  \nNON-MEMBERS: Please purchase Celebrate Halloween! Tickets only for those who wish to participate in the Trick-or-Treat trail and event activities. All others must purchase General Admission tickets to gain access to the Zoo. Children 24 months and under are admitted free but require reserved tickets. Simply select “Member/General Admission Under 24 months” in the Celebrate Halloween! special event ticketing module for each child who meets the age requirement.  \nMEMBERS: Please purchase Celebrate Halloween! Tickets only for those who wish to participate in the Trick-or-Treat trail and event activities. Your current\, valid Membership covers your unlimited admission to the Zoo. Children 24 months and under are admitted free but require reserved tickets. Simply select “Member/General Admission Under 24 months” in the Celebrate Halloween! special event Member ticketing module for each child who meets the age requirement.  \n  \nTicket Terms and Conditions  \n\nPre-paid\, non-refundable\, non-transferable tickets are required to attend Celebrate Halloween! at the Buffalo Zoo. Should a ticket holder be unable to attend\, your purchase will be considered a donation. There will be no refunds\, nor will tickets be honored at another Celebrate Halloween! or year. \nBuffalo Zoo Members receive a special member discount. Please bring your valid Buffalo Zoo membership card and identification to the event. A $5.00 per ticket fee is charged for Members who cannot provide a valid Buffalo Zoo membership card and identification. \nMember-level tickets are non-transferable. The Member’s name must be on all tickets purchased\, and the Member must be present with a valid Buffalo Zoo membership card and identification at entry. \nThis event is held rain or shine. Dates and times are subject to change or cancellation without notice. \nTrick-or-Treat Trail is open 11:00 am–2:00 pm. The Zoo is open 10:00 am–4:00 pm.
URL:https://buffalozoo.org/event/celebrate-halloween-at-the-buffalo-zoo-2022-4/
LOCATION:Buffalo Zoo\, 300 Parkside Ave\, Buffalo\, NY\, 14214\, United States
ATTACH;FMTTYPE=image/jpeg:https://buffalozoo.org/wp-content/uploads/2022/08/CelebrateHalloween_WebGraphic-1.jpg
GEO:42.9383689;-78.8509911
X-APPLE-STRUCTURED-LOCATION;VALUE=URI;X-ADDRESS=Buffalo Zoo 300 Parkside Ave Buffalo NY 14214 United States;X-APPLE-RADIUS=500;X-TITLE=300 Parkside Ave:geo:-78.8509911,42.9383689
END:VEVENT
END:VCALENDAR