BEGIN:VCALENDAR
VERSION:2.0
PRODID:-//Buffalo Zoo - ECPv6.15.15//NONSGML v1.0//EN
CALSCALE:GREGORIAN
METHOD:PUBLISH
X-WR-CALNAME:Buffalo Zoo
X-ORIGINAL-URL:https://buffalozoo.org
X-WR-CALDESC:Events for Buffalo Zoo
REFRESH-INTERVAL;VALUE=DURATION:PT1H
X-Robots-Tag:noindex
X-PUBLISHED-TTL:PT1H
BEGIN:VTIMEZONE
TZID:America/New_York
BEGIN:DAYLIGHT
TZOFFSETFROM:-0500
TZOFFSETTO:-0400
TZNAME:EDT
DTSTART:20230312T070000
END:DAYLIGHT
BEGIN:STANDARD
TZOFFSETFROM:-0400
TZOFFSETTO:-0500
TZNAME:EST
DTSTART:20231105T060000
END:STANDARD
BEGIN:DAYLIGHT
TZOFFSETFROM:-0500
TZOFFSETTO:-0400
TZNAME:EDT
DTSTART:20240310T070000
END:DAYLIGHT
BEGIN:STANDARD
TZOFFSETFROM:-0400
TZOFFSETTO:-0500
TZNAME:EST
DTSTART:20241103T060000
END:STANDARD
BEGIN:DAYLIGHT
TZOFFSETFROM:-0500
TZOFFSETTO:-0400
TZNAME:EDT
DTSTART:20250309T070000
END:DAYLIGHT
BEGIN:STANDARD
TZOFFSETFROM:-0400
TZOFFSETTO:-0500
TZNAME:EST
DTSTART:20251102T060000
END:STANDARD
END:VTIMEZONE
BEGIN:VEVENT
DTSTART;TZID=America/New_York:20240209T180000
DTEND;TZID=America/New_York:20240209T203000
DTSTAMP:20260422T221735
CREATED:20240105T140440Z
LAST-MODIFIED:20240311T153830Z
UID:10000280-1707501600-1707510600@buffalozoo.org
SUMMARY:Wild Side of Love
DESCRIPTION:Grab your Valentine or Galentine and join us for an intimate evening on talks of the “birds and bees” of the animal kingdom. Buffalo Zoo’s President and CEO\, Lisa Smith\, will lead this adults-only presentation from mating battles to subtle courting rituals\, and how some of the Zoo’s most popular couples show affection. Enjoy light snacks and sweet treats while being smitten by our animal ambassadors. Don’t forget to say cheese in our kiss & tails photo booth! Be on the lookout for other surprises sure to make your heart skip a beat. \nWild Side of Love is an evening conservation education event for adults ages 21 and over. Last entry is at 6:30pm\, as the presentation begins at 6:45pm. This event takes place at the Zoo in the Children’s Resource Center. \nDate: Friday\, February 9\, 2023 from 6:00-8:30 pm. \nPrice: \n\nNon-member Individual: $50\nIndividual Member: $45\nNon-Member Couple: $95\nMember Couple: $85\n\nPURCHASE TICKETS HERE  \nTicket Includes: \n\nAdmission to this 21+ over event\nEducational Programs\nAmbassador Animal Meet & Greets\nParking in the Buffalo Zoo parking lot\nHors d’oeuvres and dessert bar\nAccess to cash bar\nPhoto Booth\nA special take home Valentine from our animals\n\nWild Side of Love is an adults-only event designed to celebrate the Valentine’s season. To ensure the best experience please note the following: \nTicket Terms and Conditions: \n\nPre-paid\, non-refundable\, non-transferable tickets are required to attend Wild Side of Love. Should a ticket holder be unable to attend\, your purchase will be considered a donation. There will be no refunds\, nor will tickets be honored another year.\nBuffalo Zoo Members receive a special member discount. Please bring your valid Buffalo Zoo membership card and identification to the event. A $5.00 per ticket fee is charged for Members who cannot provide a valid Buffalo Zoo membership card and identification.\nMember level tickets are non-transferable. The Member’s name must be on all tickets purchased\, and the Member must be present with a valid Buffalo Zoo membership card and identification at entry.\nThis event is held rain or shine. Dates and times are subject to change or cancellation without notice.
URL:https://buffalozoo.org/event/wild-side-of-love/
LOCATION:NY
ATTACH;FMTTYPE=image/jpeg:https://buffalozoo.org/wp-content/uploads/2024/01/1920-x-1080.jpg
END:VEVENT
BEGIN:VEVENT
DTSTART;TZID=America/New_York:20240222T100000
DTEND;TZID=America/New_York:20240223T160000
DTSTAMP:20260422T221735
CREATED:20240220T152549Z
LAST-MODIFIED:20240311T153819Z
UID:10000283-1708596000-1708704000@buffalozoo.org
SUMMARY:Polar Bear Days
DESCRIPTION:Join us for Polar Bear Days at the Buffalo Zoo this winter recess starting Monday\, February 19 through Friday\, February 23! The Zoo will be open every day as we celebrate these amazing animals and raise awareness for their shrinking habitat. Guests who visit between February 19–23\, 2024 will receive $5 off their admission ticket! That’s not all\, keeper talks\, enrichment sessions\, and animal demos and biofacts will be available at our Arctic Edge exhibit between 11:00 am–2:00 pm each day of Polar Bear Days! Come visit Luna and Sakari and learn all about your two favorite carnivores!  \nPurchase your admission tickets for Polar Bears Days online to beat the lines. Tickets go on sale starting February 19th. Walk-up tickets are also available. \nPURCHASE TICKETS HERE \nCONSERVATION CORNER:\nThe Buffalo Zoo works alongside many conservation organizations including Polar Bears International. To learn more about Polar Bears\, their shrinking habitat\, and the great work being done to help this species\, visit polarbearsinternational.org. How can you help? Every car that parks in the Buffalo Zoo parking lot contributes $0.25 to the Zoo’s Cars for Conservation program with a percentage of those funds being donated to Polar Bear International at the end of each year.  
URL:https://buffalozoo.org/event/polar-bear-days-2/
LOCATION:NY
ATTACH;FMTTYPE=image/jpeg:https://buffalozoo.org/wp-content/uploads/2024/02/PolarBearDays_1920x1080-2.jpg
END:VEVENT
END:VCALENDAR