BEGIN:VCALENDAR
VERSION:2.0
PRODID:-//Buffalo Zoo - ECPv6.15.15//NONSGML v1.0//EN
CALSCALE:GREGORIAN
METHOD:PUBLISH
X-WR-CALNAME:Buffalo Zoo
X-ORIGINAL-URL:https://buffalozoo.org
X-WR-CALDESC:Events for Buffalo Zoo
REFRESH-INTERVAL;VALUE=DURATION:PT1H
X-Robots-Tag:noindex
X-PUBLISHED-TTL:PT1H
BEGIN:VTIMEZONE
TZID:America/New_York
BEGIN:DAYLIGHT
TZOFFSETFROM:-0500
TZOFFSETTO:-0400
TZNAME:EDT
DTSTART:20230312T070000
END:DAYLIGHT
BEGIN:STANDARD
TZOFFSETFROM:-0400
TZOFFSETTO:-0500
TZNAME:EST
DTSTART:20231105T060000
END:STANDARD
BEGIN:DAYLIGHT
TZOFFSETFROM:-0500
TZOFFSETTO:-0400
TZNAME:EDT
DTSTART:20240310T070000
END:DAYLIGHT
BEGIN:STANDARD
TZOFFSETFROM:-0400
TZOFFSETTO:-0500
TZNAME:EST
DTSTART:20241103T060000
END:STANDARD
BEGIN:DAYLIGHT
TZOFFSETFROM:-0500
TZOFFSETTO:-0400
TZNAME:EDT
DTSTART:20250309T070000
END:DAYLIGHT
BEGIN:STANDARD
TZOFFSETFROM:-0400
TZOFFSETTO:-0500
TZNAME:EST
DTSTART:20251102T060000
END:STANDARD
END:VTIMEZONE
BEGIN:VEVENT
DTSTART;TZID=America/New_York:20240406T090000
DTEND;TZID=America/New_York:20240406T100000
DTSTAMP:20260423T005010
CREATED:20240405T160042Z
LAST-MODIFIED:20240415T192247Z
UID:10000286-1712394000-1712397600@buffalozoo.org
SUMMARY:Member Morning
DESCRIPTION:Join us for a Member Morning this Saturday\, May 4! Our Members will have early access to the Zoo starting at 9:00 am\, an hour before the Zoo opens to the general public.\n\n\nEach member will also receive a complimentary coffee/tea/cocoa at the main entry plaza.
URL:https://buffalozoo.org/event/member-morning/
LOCATION:NY
ATTACH;FMTTYPE=image/jpeg:https://buffalozoo.org/wp-content/uploads/2024/04/Member-Morning-scaled.jpg
END:VEVENT
BEGIN:VEVENT
DTSTART;TZID=America/New_York:20240408T100000
DTEND;TZID=America/New_York:20240408T160000
DTSTAMP:20260423T005010
CREATED:20240126T200001Z
LAST-MODIFIED:20240415T192059Z
UID:10000281-1712570400-1712592000@buffalozoo.org
SUMMARY:Total Solar Eclipse at the Buffalo Zoo
DESCRIPTION:What’s better than watching a historic moment at one of Buffalo’s most historic places? Join us at the Buffalo Zoo as we gather to watch the Total Solar Eclipse on Monday\, April 8\, 2024 \n\n\nOur Zoo offers a wide\, open space\, perfect for observing the sky without obstructions. Watch the sky’s transformation surrounded by the sounds and sights of our diverse animal kingdom. How will the animals react? Will the birds quiet down? Will the nocturnal animals stir? It’s a rare opportunity to observe animal behavior during such a unique natural event. \n\n\nAny guests that visit the Zoo April 8 will receive a free pair of eclipse glasses upon entry. Please note this is first come first service. Enjoy animal ambassador meet and greets with some of our most famous residents and join us for a presentation on Animal Behaviors During an Eclipse. Have the chance to create your own Solar Eclipse viewing box with our Education Team and learn about the safety steps to take during an Eclipse. (No preregistration is necessary; first come first serve. Activity available 10am-Noon on April 8\, 2024). \n\n\nWhile we celebrate this Solar Eclipse\, don’t forget to say hello to Buffalo’s most popular polar bear\, Luna-who was born during a Lunar Eclipse! \n\n\nSo\, join us at the Buffalo Zoo on April 8\, 2024\, for this once-in-a-lifetime experience as we witness the total solar eclipse together.
URL:https://buffalozoo.org/event/total-solar-eclipse-at-the-buffalo-zoo/
LOCATION:NY
ATTACH;FMTTYPE=image/jpeg:https://buffalozoo.org/wp-content/uploads/2024/01/Solar-Eclipse-1920x1080-1.jpg
END:VEVENT
BEGIN:VEVENT
DTSTART;TZID=America/New_York:20240420T100000
DTEND;TZID=America/New_York:20240420T160000
DTSTAMP:20260423T005010
CREATED:20240311T153541Z
LAST-MODIFIED:20240422T123214Z
UID:10000285-1713607200-1713628800@buffalozoo.org
SUMMARY:Party for the Planet
DESCRIPTION:What better way to celebrate Earth Day than with the planet’s amazing and diverse wildlife? Join us for Party for the Planet on Saturday\, April 20\, from 10:00 am–2:00 pm as we honor Earth Day and wildlife conservation. This annual celebration features keeper talks\, animal ambassador meet and greets\, and educational opportunities throughout the day. Many conservation organizations local to our Western New York Community will be in attendance to discuss how we can protect our beautiful planet and all who live on it. This is a value-added event; all activities are included with admission to the Buffalo Zoo. 
URL:https://buffalozoo.org/event/party-for-the-planet-5/
LOCATION:NY
ATTACH;FMTTYPE=image/jpeg:https://buffalozoo.org/wp-content/uploads/2024/03/PartyforthePlanet-with-date-2024-scaled.jpg
END:VEVENT
END:VCALENDAR