BEGIN:VCALENDAR
VERSION:2.0
PRODID:-//Buffalo Zoo - ECPv6.15.15//NONSGML v1.0//EN
CALSCALE:GREGORIAN
METHOD:PUBLISH
X-WR-CALNAME:Buffalo Zoo
X-ORIGINAL-URL:https://buffalozoo.org
X-WR-CALDESC:Events for Buffalo Zoo
REFRESH-INTERVAL;VALUE=DURATION:PT1H
X-Robots-Tag:noindex
X-PUBLISHED-TTL:PT1H
BEGIN:VTIMEZONE
TZID:America/New_York
BEGIN:DAYLIGHT
TZOFFSETFROM:-0500
TZOFFSETTO:-0400
TZNAME:EDT
DTSTART:20230312T070000
END:DAYLIGHT
BEGIN:STANDARD
TZOFFSETFROM:-0400
TZOFFSETTO:-0500
TZNAME:EST
DTSTART:20231105T060000
END:STANDARD
BEGIN:DAYLIGHT
TZOFFSETFROM:-0500
TZOFFSETTO:-0400
TZNAME:EDT
DTSTART:20240310T070000
END:DAYLIGHT
BEGIN:STANDARD
TZOFFSETFROM:-0400
TZOFFSETTO:-0500
TZNAME:EST
DTSTART:20241103T060000
END:STANDARD
BEGIN:DAYLIGHT
TZOFFSETFROM:-0500
TZOFFSETTO:-0400
TZNAME:EDT
DTSTART:20250309T070000
END:DAYLIGHT
BEGIN:STANDARD
TZOFFSETFROM:-0400
TZOFFSETTO:-0500
TZNAME:EST
DTSTART:20251102T060000
END:STANDARD
END:VTIMEZONE
BEGIN:VEVENT
DTSTART;TZID=America/New_York:20240505T100000
DTEND;TZID=America/New_York:20240505T130000
DTSTAMP:20260423T021043
CREATED:20240415T192027Z
LAST-MODIFIED:20240509T140902Z
UID:10000287-1714903200-1714914000@buffalozoo.org
SUMMARY:Cinco de Rhino 2024
DESCRIPTION:Join us Sunday\, May 5\, as we celebrate all five rhino species\, specifically the two we have at the Buffalo Zoo (Black Rhino and Greater One-Horned Rhino) on Cinco de Rhino presented by Reimer Home Services! Show your love for rhinos with a visit to the Zoo to learn all about these amazing herbivores through keeper talks and biofacts between 11:00 am–2:00 pm. All activities are included with your general admission ticket to the Zoo on May 5. Get your tickets now to beat the lines day of! \nThank you to our sponsor of all things rhino at the Buffalo Zoo: \n  \n \n  \n  \n  \n  \n  \n 
URL:https://buffalozoo.org/event/cinco-de-rhino-2024/
LOCATION:NY
ATTACH;FMTTYPE=image/jpeg:https://buffalozoo.org/wp-content/uploads/2024/04/Cinco-de-Rhino-1080-x-1920.jpg
END:VEVENT
END:VCALENDAR