BEGIN:VCALENDAR
VERSION:2.0
PRODID:-//Buffalo Zoo - ECPv6.15.15//NONSGML v1.0//EN
CALSCALE:GREGORIAN
METHOD:PUBLISH
X-WR-CALNAME:Buffalo Zoo
X-ORIGINAL-URL:https://buffalozoo.org
X-WR-CALDESC:Events for Buffalo Zoo
REFRESH-INTERVAL;VALUE=DURATION:PT1H
X-Robots-Tag:noindex
X-PUBLISHED-TTL:PT1H
BEGIN:VTIMEZONE
TZID:America/New_York
BEGIN:DAYLIGHT
TZOFFSETFROM:-0500
TZOFFSETTO:-0400
TZNAME:EDT
DTSTART:20230312T070000
END:DAYLIGHT
BEGIN:STANDARD
TZOFFSETFROM:-0400
TZOFFSETTO:-0500
TZNAME:EST
DTSTART:20231105T060000
END:STANDARD
BEGIN:DAYLIGHT
TZOFFSETFROM:-0500
TZOFFSETTO:-0400
TZNAME:EDT
DTSTART:20240310T070000
END:DAYLIGHT
BEGIN:STANDARD
TZOFFSETFROM:-0400
TZOFFSETTO:-0500
TZNAME:EST
DTSTART:20241103T060000
END:STANDARD
BEGIN:DAYLIGHT
TZOFFSETFROM:-0500
TZOFFSETTO:-0400
TZNAME:EDT
DTSTART:20250309T070000
END:DAYLIGHT
BEGIN:STANDARD
TZOFFSETFROM:-0400
TZOFFSETTO:-0500
TZNAME:EST
DTSTART:20251102T060000
END:STANDARD
END:VTIMEZONE
BEGIN:VEVENT
DTSTART;TZID=America/New_York:20241214T090000
DTEND;TZID=America/New_York:20241214T130000
DTSTAMP:20260419T200749
CREATED:20241107T200619Z
LAST-MODIFIED:20241217T185829Z
UID:10000349-1734166800-1734181200@buffalozoo.org
SUMMARY:Breakfast with Santa
DESCRIPTION:Tis the season for Breakfast with Santa at the Buffalo Zoo! Western New York’s holiday tradition is back for another year.\n\nCome to the Zoo bright and early to enjoy a breakfast buffet as you meet Santa and our amazing animal ambassador friends. Once you’ve satisfied your holiday appetite\, stay and enjoy the Zoo—admission is included with your ticket!\n\nBreakfast with Santa takes place December 14 and 21. There are two sessions: 9:00 AM or 11:30 AM. Seating in our Children’s Resource Center is first come\, first served. Reserve your spot today.\n\nPurchase Tickets Here: https://bit.ly/4abbPf3
URL:https://buffalozoo.org/event/breakfast-with-santa/
LOCATION:NY
ATTACH;FMTTYPE=image/jpeg:https://buffalozoo.org/wp-content/uploads/2024/11/2024-BkfstSanta-TV1.jpg
END:VEVENT
BEGIN:VEVENT
DTSTART;TZID=America/New_York:20241221T090000
DTEND;TZID=America/New_York:20241221T130000
DTSTAMP:20260419T200749
CREATED:20241107T201043Z
LAST-MODIFIED:20241223T210901Z
UID:10000350-1734771600-1734786000@buffalozoo.org
SUMMARY:Breakfast With Santa
DESCRIPTION:Tis the season for Breakfast with Santa at the Buffalo Zoo! Western New York’s holiday tradition is back for another year.\n\nCome to the Zoo bright and early to enjoy a breakfast buffet as you meet Santa and our amazing animal ambassador friends. Once you’ve satisfied your holiday appetite\, stay and enjoy the Zoo—admission is included with your ticket!\n\nBreakfast with Santa takes place December 14 and 21. There are two sessions: 9:00 AM or 11:30 AM. Seating in our Children’s Resource Center is first come\, first served. Reserve your spot today.\n\nPurchase Tickets Here: https://bit.ly/4abbPf3
URL:https://buffalozoo.org/event/breakfast-with-santa-8/
LOCATION:NY
ATTACH;FMTTYPE=image/jpeg:https://buffalozoo.org/wp-content/uploads/2024/11/2024-BkfstSanta-TV1.jpg
END:VEVENT
END:VCALENDAR