BEGIN:VCALENDAR
VERSION:2.0
PRODID:-//Buffalo Zoo - ECPv6.15.15//NONSGML v1.0//EN
CALSCALE:GREGORIAN
METHOD:PUBLISH
X-WR-CALNAME:Buffalo Zoo
X-ORIGINAL-URL:https://buffalozoo.org
X-WR-CALDESC:Events for Buffalo Zoo
REFRESH-INTERVAL;VALUE=DURATION:PT1H
X-Robots-Tag:noindex
X-PUBLISHED-TTL:PT1H
BEGIN:VTIMEZONE
TZID:America/New_York
BEGIN:DAYLIGHT
TZOFFSETFROM:-0500
TZOFFSETTO:-0400
TZNAME:EDT
DTSTART:20240310T070000
END:DAYLIGHT
BEGIN:STANDARD
TZOFFSETFROM:-0400
TZOFFSETTO:-0500
TZNAME:EST
DTSTART:20241103T060000
END:STANDARD
BEGIN:DAYLIGHT
TZOFFSETFROM:-0500
TZOFFSETTO:-0400
TZNAME:EDT
DTSTART:20250309T070000
END:DAYLIGHT
BEGIN:STANDARD
TZOFFSETFROM:-0400
TZOFFSETTO:-0500
TZNAME:EST
DTSTART:20251102T060000
END:STANDARD
BEGIN:DAYLIGHT
TZOFFSETFROM:-0500
TZOFFSETTO:-0400
TZNAME:EDT
DTSTART:20260308T070000
END:DAYLIGHT
BEGIN:STANDARD
TZOFFSETFROM:-0400
TZOFFSETTO:-0500
TZNAME:EST
DTSTART:20261101T060000
END:STANDARD
END:VTIMEZONE
BEGIN:VEVENT
DTSTART;TZID=America/New_York:20250212T180000
DTEND;TZID=America/New_York:20250212T200000
DTSTAMP:20260419T230859
CREATED:20250121T173902Z
LAST-MODIFIED:20250213T133010Z
UID:10000353-1739383200-1739390400@buffalozoo.org
SUMMARY:Wild Side of Love
DESCRIPTION:Join us for Valentine’s fundraiser lecture! Grab your Valentine or Galentine and join us for an intimate evening on talks of the “birds and bees” of the animal kingdom. Buffalo Zoo’s President and CEO\, Lisa Smith\, will lead this adults-only presentation from mating battles to subtle courting rituals\, and how some of the Zoo’s most popular couples show affection. Enjoy light snacks and sweet treats while being smitten by our animal ambassadors. Don’t forget to say cheese in our kiss & tails photo booth! Three lucky couples will walk away with tickets for a Buffalo Sabres date night on February 22nd. \nMust be 21+ to attend. \nPurchase your tickets here: https://bit.ly/4aqyapn
URL:https://buffalozoo.org/event/wild-side-of-love-2/
LOCATION:NY
ATTACH;FMTTYPE=image/jpeg:https://buffalozoo.org/wp-content/uploads/2025/01/WSOL-1920-x-1080.jpg
END:VEVENT
BEGIN:VEVENT
DTSTART;TZID=America/New_York:20250217T100000
DTEND;TZID=America/New_York:20250221T160000
DTSTAMP:20260419T230859
CREATED:20250207T144139Z
LAST-MODIFIED:20250224T155334Z
UID:10000354-1739786400-1740153600@buffalozoo.org
SUMMARY:Polar Bear Days
DESCRIPTION:Polar Bear Days at the Buffalo Zoo is back! Come celebrate these incredible creatures and support polar bear conservation during the winter school break. Enjoy discounted admission and family fun every day! This year’s Polar Bear Days stretch is from February 17-21 and each day will include:\n\n $5 off Buffalo Zoo admission\n $1.50 Hot chocolates\n Activities\, keeper talks and more\n Sabres tickets giveaway every day\n\nGet your discounted Zoo tickets online or at the gate: https://bit.ly/3TS5fn6
URL:https://buffalozoo.org/event/polar-bear-days/
LOCATION:NY
ATTACH;FMTTYPE=image/jpeg:https://buffalozoo.org/wp-content/uploads/2025/02/PolarBearDays_1920x1080.jpg
END:VEVENT
BEGIN:VEVENT
DTSTART;TZID=America/New_York:20250222T180000
DTEND;TZID=America/New_York:20250222T220000
DTSTAMP:20260419T230859
CREATED:20241223T211235Z
LAST-MODIFIED:20250224T155303Z
UID:10000352-1740247200-1740261600@buffalozoo.org
SUMMARY:Zoobiliation!
DESCRIPTION:Join the Pro Zoo Board of Buffalo in a fun night to support the Buffalo Zoo’s Summer Camp Scholarship Program.\n  \nYour Ticket Includes:\n\nA Buffet Style Meal\nComplimentary Dessert\n3-Hour Open Bar\nA Photo booth\, Music\, and chances to win prizes at games like the Wine Toss and Spin to Win\n\n  \nPurchase Tickets Here: https://bit.ly/4gmBqng\n  \nEarly bird ticket prices will be on sale until January 21\, 2025! Ticket prices will increased on January 22\, 2025.\n  \nZoobilation! is presented by The Potter Law Firm.
URL:https://buffalozoo.org/event/zoobiliation/
LOCATION:The Show at Shea’s Seneca\, 2188 Seneca Street\, Buffalo\, NY\, 14210\, United States
ATTACH;FMTTYPE=image/jpeg:https://buffalozoo.org/wp-content/uploads/2024/12/ZOOBILATION-Facebook-2.jpg
END:VEVENT
END:VCALENDAR