BEGIN:VCALENDAR
VERSION:2.0
PRODID:-//Buffalo Zoo - ECPv6.15.15//NONSGML v1.0//EN
CALSCALE:GREGORIAN
METHOD:PUBLISH
X-ORIGINAL-URL:https://buffalozoo.org
X-WR-CALDESC:Events for Buffalo Zoo
REFRESH-INTERVAL;VALUE=DURATION:PT1H
X-Robots-Tag:noindex
X-PUBLISHED-TTL:PT1H
BEGIN:VTIMEZONE
TZID:America/New_York
BEGIN:DAYLIGHT
TZOFFSETFROM:-0500
TZOFFSETTO:-0400
TZNAME:EDT
DTSTART:20240310T070000
END:DAYLIGHT
BEGIN:STANDARD
TZOFFSETFROM:-0400
TZOFFSETTO:-0500
TZNAME:EST
DTSTART:20241103T060000
END:STANDARD
BEGIN:DAYLIGHT
TZOFFSETFROM:-0500
TZOFFSETTO:-0400
TZNAME:EDT
DTSTART:20250309T070000
END:DAYLIGHT
BEGIN:STANDARD
TZOFFSETFROM:-0400
TZOFFSETTO:-0500
TZNAME:EST
DTSTART:20251102T060000
END:STANDARD
BEGIN:DAYLIGHT
TZOFFSETFROM:-0500
TZOFFSETTO:-0400
TZNAME:EDT
DTSTART:20260308T070000
END:DAYLIGHT
BEGIN:STANDARD
TZOFFSETFROM:-0400
TZOFFSETTO:-0500
TZNAME:EST
DTSTART:20261101T060000
END:STANDARD
END:VTIMEZONE
BEGIN:VEVENT
DTSTART;TZID=America/New_York:20251002T183000
DTEND;TZID=America/New_York:20251002T223000
DTSTAMP:20260424T115650
CREATED:20250617T135912Z
LAST-MODIFIED:20250801T131747Z
UID:10000620-1759429800-1759444200@buffalozoo.org
SUMMARY:Zoomagination: Lantern Festival at the Buffalo Zoo
DESCRIPTION:Experience the Buffalo Zoo after hours like never before during Zoomagination: Lantern Festival at the Buffalo Zoo! Beginning July 30\, the Zoo transforms on select evenings into a glowing spectacle featuring more than 40  larger-than-life lantern displays inspired by animals\, nature\, and global cultures.\n\n\nNew for 2025: Prepare to walk among the dinosaurs! This year’s festival features a stunning new collection of prehistoric-themed lanterns that bring these ancient giants to life in brilliant color and light. This year’s festival also shines the spotlight on North American animal lanterns alongside exquisite traditional Chinese culture lanterns.\n\n\nStroll through magical illuminated trails\, discover interactive exhibits\, and indulge in themed food and drinks along the way. Whether you’re planning a family night out or a unique evening with friends\, Zoomagination is Buffalo’s most radiant summer tradition.\n\n\n\nPURCHASE TICKETS HERE
URL:https://buffalozoo.org/event/zoomagination-the-festival-of-lanterns-and-lights-39/2025-10-02/
LOCATION:Buffalo Zoo\, 300 Parkside Ave\, Buffalo\, NY\, 14214\, United States
ATTACH;FMTTYPE=image/jpeg:https://buffalozoo.org/wp-content/uploads/2025/06/Zoomagination-2025B-TV2.jpg
GEO:42.9383689;-78.8509911
X-APPLE-STRUCTURED-LOCATION;VALUE=URI;X-ADDRESS=Buffalo Zoo 300 Parkside Ave Buffalo NY 14214 United States;X-APPLE-RADIUS=500;X-TITLE=300 Parkside Ave:geo:-78.8509911,42.9383689
END:VEVENT
BEGIN:VEVENT
DTSTART;TZID=America/New_York:20251003T183000
DTEND;TZID=America/New_York:20251003T223000
DTSTAMP:20260424T115650
CREATED:20250617T135912Z
LAST-MODIFIED:20250801T131747Z
UID:10000621-1759516200-1759530600@buffalozoo.org
SUMMARY:Zoomagination: Lantern Festival at the Buffalo Zoo
DESCRIPTION:Experience the Buffalo Zoo after hours like never before during Zoomagination: Lantern Festival at the Buffalo Zoo! Beginning July 30\, the Zoo transforms on select evenings into a glowing spectacle featuring more than 40  larger-than-life lantern displays inspired by animals\, nature\, and global cultures.\n\n\nNew for 2025: Prepare to walk among the dinosaurs! This year’s festival features a stunning new collection of prehistoric-themed lanterns that bring these ancient giants to life in brilliant color and light. This year’s festival also shines the spotlight on North American animal lanterns alongside exquisite traditional Chinese culture lanterns.\n\n\nStroll through magical illuminated trails\, discover interactive exhibits\, and indulge in themed food and drinks along the way. Whether you’re planning a family night out or a unique evening with friends\, Zoomagination is Buffalo’s most radiant summer tradition.\n\n\n\nPURCHASE TICKETS HERE
URL:https://buffalozoo.org/event/zoomagination-the-festival-of-lanterns-and-lights-39/2025-10-03/
LOCATION:Buffalo Zoo\, 300 Parkside Ave\, Buffalo\, NY\, 14214\, United States
ATTACH;FMTTYPE=image/jpeg:https://buffalozoo.org/wp-content/uploads/2025/06/Zoomagination-2025B-TV2.jpg
GEO:42.9383689;-78.8509911
X-APPLE-STRUCTURED-LOCATION;VALUE=URI;X-ADDRESS=Buffalo Zoo 300 Parkside Ave Buffalo NY 14214 United States;X-APPLE-RADIUS=500;X-TITLE=300 Parkside Ave:geo:-78.8509911,42.9383689
END:VEVENT
BEGIN:VEVENT
DTSTART;TZID=America/New_York:20251004T183000
DTEND;TZID=America/New_York:20251004T223000
DTSTAMP:20260424T115650
CREATED:20250617T135912Z
LAST-MODIFIED:20250801T131747Z
UID:10000622-1759602600-1759617000@buffalozoo.org
SUMMARY:Zoomagination: Lantern Festival at the Buffalo Zoo
DESCRIPTION:Experience the Buffalo Zoo after hours like never before during Zoomagination: Lantern Festival at the Buffalo Zoo! Beginning July 30\, the Zoo transforms on select evenings into a glowing spectacle featuring more than 40  larger-than-life lantern displays inspired by animals\, nature\, and global cultures.\n\n\nNew for 2025: Prepare to walk among the dinosaurs! This year’s festival features a stunning new collection of prehistoric-themed lanterns that bring these ancient giants to life in brilliant color and light. This year’s festival also shines the spotlight on North American animal lanterns alongside exquisite traditional Chinese culture lanterns.\n\n\nStroll through magical illuminated trails\, discover interactive exhibits\, and indulge in themed food and drinks along the way. Whether you’re planning a family night out or a unique evening with friends\, Zoomagination is Buffalo’s most radiant summer tradition.\n\n\n\nPURCHASE TICKETS HERE
URL:https://buffalozoo.org/event/zoomagination-the-festival-of-lanterns-and-lights-39/2025-10-04/
LOCATION:Buffalo Zoo\, 300 Parkside Ave\, Buffalo\, NY\, 14214\, United States
ATTACH;FMTTYPE=image/jpeg:https://buffalozoo.org/wp-content/uploads/2025/06/Zoomagination-2025B-TV2.jpg
GEO:42.9383689;-78.8509911
X-APPLE-STRUCTURED-LOCATION;VALUE=URI;X-ADDRESS=Buffalo Zoo 300 Parkside Ave Buffalo NY 14214 United States;X-APPLE-RADIUS=500;X-TITLE=300 Parkside Ave:geo:-78.8509911,42.9383689
END:VEVENT
BEGIN:VEVENT
DTSTART;TZID=America/New_York:20251005T183000
DTEND;TZID=America/New_York:20251005T223000
DTSTAMP:20260424T115650
CREATED:20250617T135912Z
LAST-MODIFIED:20250801T131747Z
UID:10000623-1759689000-1759703400@buffalozoo.org
SUMMARY:Zoomagination: Lantern Festival at the Buffalo Zoo
DESCRIPTION:Experience the Buffalo Zoo after hours like never before during Zoomagination: Lantern Festival at the Buffalo Zoo! Beginning July 30\, the Zoo transforms on select evenings into a glowing spectacle featuring more than 40  larger-than-life lantern displays inspired by animals\, nature\, and global cultures.\n\n\nNew for 2025: Prepare to walk among the dinosaurs! This year’s festival features a stunning new collection of prehistoric-themed lanterns that bring these ancient giants to life in brilliant color and light. This year’s festival also shines the spotlight on North American animal lanterns alongside exquisite traditional Chinese culture lanterns.\n\n\nStroll through magical illuminated trails\, discover interactive exhibits\, and indulge in themed food and drinks along the way. Whether you’re planning a family night out or a unique evening with friends\, Zoomagination is Buffalo’s most radiant summer tradition.\n\n\n\nPURCHASE TICKETS HERE
URL:https://buffalozoo.org/event/zoomagination-the-festival-of-lanterns-and-lights-39/2025-10-05/
LOCATION:Buffalo Zoo\, 300 Parkside Ave\, Buffalo\, NY\, 14214\, United States
ATTACH;FMTTYPE=image/jpeg:https://buffalozoo.org/wp-content/uploads/2025/06/Zoomagination-2025B-TV2.jpg
GEO:42.9383689;-78.8509911
X-APPLE-STRUCTURED-LOCATION;VALUE=URI;X-ADDRESS=Buffalo Zoo 300 Parkside Ave Buffalo NY 14214 United States;X-APPLE-RADIUS=500;X-TITLE=300 Parkside Ave:geo:-78.8509911,42.9383689
END:VEVENT
BEGIN:VEVENT
DTSTART;TZID=America/New_York:20251016T100000
DTEND;TZID=America/New_York:20251016T170000
DTSTAMP:20260424T115650
CREATED:20250428T192251Z
LAST-MODIFIED:20251028T134028Z
UID:10000378-1760608800-1760634000@buffalozoo.org
SUMMARY:M&T Bank Presents Third Thursdays at the Buffalo Zoo
DESCRIPTION:The Buffalo Zoo and M&T Bank are delighted to offer FREE admission to the community on select Third Thursdays! Important: Free tickets are required and must be reserved online prior to your visit. A limited number of tickets are available\, with a maximum of 10 tickets per group. \nPlan your free Zoo visit for these Third Thursdays: \n\n\n\nThursday April 17\nThursday\, May 15\nThursday\, September 18\nThursday\, October 16\nThursday\, November 20\nThursday\, December 18\nThursday\, January 15\nThursday\, February 19\nThursday\, March 19\n\n\n\nTickets for Third Thursdays will become available to claim at 10 a.m. on the Monday of the week they take place! This means that tickets for this Third Thursday on Oct. 16 can be claimed at 10 a.m. on Oct. 13. \nCLAIM YOUR TICKETS HERE
URL:https://buffalozoo.org/event/mt-bank-presents-third-thursdays-at-the-buffalo-zoo-october-2025/
LOCATION:NY
ATTACH;FMTTYPE=image/jpeg:https://buffalozoo.org/wp-content/uploads/2025/04/Third-Thursdays-TV2.jpg
END:VEVENT
BEGIN:VEVENT
DTSTART;TZID=America/New_York:20251017T173000
DTEND;TZID=America/New_York:20251017T213000
DTSTAMP:20260424T115650
CREATED:20250228T164640Z
LAST-MODIFIED:20251028T134054Z
UID:10000369-1760722200-1760736600@buffalozoo.org
SUMMARY:Brew at the Zoo: Country Night Presented by USI Insurance
DESCRIPTION:Saddle up for a wild evening at the Buffalo Zoo! Join us for Brew at the Zoo: Country Night Presented by USI Insurance Services. \nDon your cowboy boots & hat for a historic hoedown featuring live music by Uncle Ben’s Remedy and a line dancing session led by Jillian Lillian! \nSip\, savor\, and shop to support the Zoo with free alcohol tastings\, cash bars\, food trucks\, and local artisan vendors. \nTry your luck on the mechanical bull\, and enjoy an after hours experience with some of your favorite “nocturnal” animal friends. \nThis is a 21+ event. Valid ID required for entry. Last entry will be 9pm. Don’t miss out! \nThis event is rain or shine. \nPURCHASE TICKETS HERE\n2025 Brew at the Zoo Map
URL:https://buffalozoo.org/event/country-zoo-bilee-fall-festival/
LOCATION:NY
ATTACH;FMTTYPE=image/jpeg:https://buffalozoo.org/wp-content/uploads/2025/02/Brew-at-the-Zoo-Logo-2.jpg
END:VEVENT
BEGIN:VEVENT
DTSTART;TZID=America/New_York:20251018T160000
DTEND;TZID=America/New_York:20251018T200000
DTSTAMP:20260424T115650
CREATED:20250228T164858Z
LAST-MODIFIED:20251028T134059Z
UID:10000370-1760803200-1760817600@buffalozoo.org
SUMMARY:Boo At The Zoo
DESCRIPTION:Calling all little ghouls and goblins! It’s time for a fang-tastic evening at the Buffalo Zoo! Celebrate the spooky season with this family-friendly event that features: a Trick-or-Treat trail\, live entertainment\, character meet and greets\, visits from animal ambassadors\, and more! Put on your best costume and get here early to show off to your animal friends during this after-hours event; animals are on exhibit until dusk. \n  \nTicket Includes: \n-Animals on exhibit until dusk \n-Goodies from our Treat Trail for kids ages 2-12  \n-Unlimited train and carousel rides  \n-Super Hilarious Magic Show by Nick Mambretti \n-Arts for Learning Presents: The Wondermakers in Animal Tales \n-Photo opportunities with Halloween characters  \n-Special keeper talks and animal ambassador meet & greets  \n  \nKnow before you go:  \n-Trick-or-treat bags and goodies are for guests ages 2-12 only   \n-The last entry is 7:15pm and the treat trail runs until 8:00pm   \n-Limited tickets available   \n-Boo At The Zoo is a rain or shine event\, no refunds or rainchecks \n  \nPurchase tickets here: https://visit.buffalozoo.org/#/SpecialEvents/CelebrateHalloween
URL:https://buffalozoo.org/event/boo-at-the-zoo-3/
LOCATION:NY
ATTACH;FMTTYPE=image/jpeg:https://buffalozoo.org/wp-content/uploads/2025/02/Boo-at-the-Zoo-2025.jpg
END:VEVENT
BEGIN:VEVENT
DTSTART;TZID=America/New_York:20251025T160000
DTEND;TZID=America/New_York:20251025T200000
DTSTAMP:20260424T115650
CREATED:20250228T165134Z
LAST-MODIFIED:20251028T134104Z
UID:10000371-1761408000-1761422400@buffalozoo.org
SUMMARY:Boo At The Zoo
DESCRIPTION:Calling all little ghouls and goblins! It’s time for a fang-tastic evening at the Buffalo Zoo! Celebrate the spooky season with this family-friendly event that features: a Trick-or-Treat trail\, live entertainment\, character meet and greets\, visits from animal ambassadors\, and more! Put on your best costume and get here early to show off to your animal friends during this after-hours event; animals are on exhibit until dusk. \n  \nTicket Includes: \n-Animals on exhibit until dusk \n-Goodies from our Treat Trail for kids ages 2-12  \n-Unlimited train and carousel rides  \n-Super Hilarious Magic Show by Nick Mambretti \n-Arts for Learning Presents: The Wondermakers in Animal Tales \n-Photo opportunities with Halloween characters  \n-Special keeper talks and animal ambassador meet & greets  \n  \nKnow before you go:  \n-Trick-or-treat bags and goodies are for guests ages 2-12 only   \n-The last entry is 7:15pm and the treat trail runs until 8:00pm   \n-Limited tickets available   \n-Boo At The Zoo is a rain or shine event\, no refunds or rainchecks \n  \nPurchase tickets here: https://visit.buffalozoo.org/#/SpecialEvents/CelebrateHalloween
URL:https://buffalozoo.org/event/boo-at-the-zoo-4/
LOCATION:NY
ATTACH;FMTTYPE=image/jpeg:https://buffalozoo.org/wp-content/uploads/2025/02/Boo-at-the-Zoo-2025.jpg
END:VEVENT
END:VCALENDAR